BEGIN:VCALENDAR
VERSION:2.0
PRODID:-//ChamberMaster//Event Calendar 2.0//EN
METHOD:PUBLISH
X-PUBLISHED-TTL:P3D
REFRESH-INTERVAL:P3D
CALSCALE:GREGORIAN
BEGIN:VEVENT
DTSTART:20121003T230000Z
DTEND:20121004T020000Z
X-MICROSOFT-CDO-ALLDAYEVENT:FALSE
SUMMARY:$100 Chamber Raffle 2012
DESCRIPTION:Cary Grove Area Chamber of Commerce\n\n	$100 Raffle - Wednesday\, October 3\, 2012\n\n	$100 Raffle - 60's Style\n\n	\n		Psychedelic & Groovy\n	\n		60.s attire encouraged!!\n	\n		WEDNESDAY\, OCTOBER 3rd\n	\n		$3\,500 FIRST PRIZE\n	\n		LOSER.S TICKET $500\n	\n		1st NUMBER DRAWN $250\n	\n		9 - $100 Prizes\n	\n		Country Club\n	\n		6:00 p.m. Cash Bar\n	\n		7:00 - 8:00 Buffet\n	\n		Drawing at 7:15 p.m.
X-ALT-DESC;FMTTYPE=text/html:<div>\n	<font size="4">Cary Grove Area Chamber of Commerce</font></div>\n<div>\n	<font size="4">$100 Raffle - </font><font size="4">Wednesday\, October 3\, 2012<br />\n	<font color="#292526" face="Arial" size="4"><font color="#292526" face="Arial" size="4"><font color="#292526" face="Arial" size="4">$100 R</font></font></font><font size="3"><font color="#292526" face="Arial"><font color="#292526" face="Arial"><font color="#292526" face="Arial">affle </font></font></font><font color="#292526" face="Arial"><font color="#292526" face="Arial">- </font></font></font><font color="#292526" face="Arial" size="4"><font color="#292526" face="Arial" size="4"><font color="#292526" face="Arial" size="4">60</font></font></font><font color="#292526" face="Arial"><font color="#292526" face="Arial" size="3">&rsquo\;s </font></font><font color="#292526" face="Arial" size="4"><font color="#292526" face="Arial" size="4"><font color="#292526" face="Arial" size="4">S</font></font></font><font color="#292526" face="Arial" size="3"><font color="#292526" face="Arial" size="3"><font color="#292526" face="Arial" size="3">tyle</font></font></font></font></div>\n<div>\n	<p align="left">\n		<font size="4"><font color="#292526" face="Arial" size="4"><font color="#292526" face="Arial" size="4"><font color="#292526" face="Arial" size="4">P</font></font></font><font size="3"><font color="#292526" face="Arial"><font color="#292526" face="Arial"><font color="#292526" face="Arial">sychedelic </font></font></font><font color="#292526" face="Arial"><font color="#292526" face="Arial">&amp\; </font></font></font><font color="#292526" face="Arial" size="4"><font color="#292526" face="Arial" size="4"><font color="#292526" face="Arial" size="4">G</font></font></font><font color="#292526" face="Arial" size="3"><font color="#292526" face="Arial" size="3"><font color="#292526" face="Arial" size="3">roovy</font></font></font></font></p>\n	<p align="left">\n		<font size="4"><b><font color="#292526" face="TimesNewRoman\,Bold" size="4"><font color="#292526" face="TimesNewRoman\,Bold" size="4"><font color="#292526" face="TimesNewRoman\,Bold" size="4">60.s attire encouraged!!</font></font></font></b></font></p>\n	<p align="left">\n		<font size="4"><b><font color="#292526" face="GaramandBoldSWFTE" size="4"><font color="#292526" face="GaramandBoldSWFTE" size="4"><font color="#292526" face="GaramandBoldSWFTE" size="4">WEDNESDAY\, OCTOBER 3rd</font></font></font></b></font></p>\n	<p align="left">\n		<font size="4"><b><font color="#292526" face="TimesNewRoman\,Bold" size="3"><font color="#292526" face="TimesNewRoman\,Bold" size="3"><font color="#292526" face="TimesNewRoman\,Bold" size="3">$3\,500 FIRST PRIZE</font></font></font></b></font></p>\n	<p align="left">\n		<font size="4"><b><font color="#292526" face="TimesNewRoman\,Bold" size="3"><font color="#292526" face="TimesNewRoman\,Bold" size="3"><font color="#292526" face="TimesNewRoman\,Bold" size="3">LOSER.S TICKET $500</font></font></font></b></font></p>\n	<p align="left">\n		<font size="4"><b><font color="#292526" face="TimesNewRoman\,Bold" size="3"><font color="#292526" face="TimesNewRoman\,Bold" size="3"><font color="#292526" face="TimesNewRoman\,Bold" size="3">1st NUMBER DRAWN $250</font></font></font></b></font></p>\n	<p align="left">\n		<font size="4"><b><font color="#292526" face="TimesNewRoman\,Bold"><font color="#292526" face="TimesNewRoman\,Bold">9 - $100 Prizes</font></font></b></font></p>\n	<p align="left">\n		<font size="4"><b><font color="#292526" face="TimesNewRoman\,Bold" size="5"><font color="#292526" face="TimesNewRoman\,Bold" size="5"><font color="#292526" face="TimesNewRoman\,Bold" size="5">Country Club</font></font></font></b></font></p>\n	<p align="left">\n		<font size="4"><b><font color="#292526" face="TimesNewRoman\,Bold" size="4"><font color="#292526" face="TimesNewRoman\,Bold" size="4"><font color="#292526" face="TimesNewRoman\,Bold" size="4">6:00 p.m. Cash Bar</font></font></font></b></font></p>\n	<p align="left">\n		<font size="4"><b><font color="#292526" face="TimesNewRoman\,Bold" size="4"><font color="#292526" face="TimesNewRoman\,Bold" size="4"><font color="#292526" face="TimesNewRoman\,Bold" size="4">7:00 - 8:00 Buffet</font></font></font></b></font></p>\n	<p align="left">\n		<font size="4"><b><font color="#292526" face="TimesNewRoman\,Bold" size="4"><font color="#292526" face="TimesNewRoman\,Bold" size="4"><font color="#292526" face="TimesNewRoman\,Bold" size="4">Drawing at 7:15 p.m.</font></font></font></b></font></p>\n	<p align="left">\n		<font size="4">&nbsp\;</font></p>\n	<p align="left">\n		&nbsp\;</p>\n</div>\n
LOCATION:Cary Country Club 2400 Grove Lane\, Cary
UID:e.138.294
SEQUENCE:3
DTSTAMP:20260420T023720Z
URL:https://business.carygrovechamber.com/events/details/100-chamber-raffle-2012-10-03-2012-294
END:VEVENT

END:VCALENDAR
