BEGIN:VCALENDAR
VERSION:2.0
PRODID:-//ChamberMaster//Event Calendar 2.0//EN
METHOD:PUBLISH
X-PUBLISHED-TTL:P3D
REFRESH-INTERVAL:P3D
CALSCALE:GREGORIAN
BEGIN:VEVENT
DTSTART;VALUE=DATE:20100110
DTEND;VALUE=DATE:20100111
TRANSP:TRANSPARENT
X-MICROSOFT-CDO-ALLDAYEVENT:TRUE
SUMMARY:12th Annual Travel Show Hosted by Cary Travel Express
DESCRIPTION:The 12th Annual McHenry County Cruise\, Tour and Honeymoon Show sponsored by Cary Travel Express will be held on Sunday\, January 10 from 11:30 a.m. to 3:30 p.m. at the Crystal Lake Holiday Inn on Route 31 and Three Oaks Roads. Admission is Free! There will be free travel seminars on  Alaska\, Europe/River Cruising\, Hawaii and more. Enter for a chance to win the grand prize\, 3 Nights Dreams Villa Magna in Puerta Vallarta. For more information\, contact Neelie Kruse at (847) 639-3300 or neelie@carytravelexpress.com. Visit www.carytravelexpress.com.
X-ALT-DESC;FMTTYPE=text/html:<div><span style="color: black\; font-size: 11pt">The 12th Annual McHenry County Cruise\, Tour and Honeymoon Show sponsored by <b>Cary Travel Express</b> will be held on Sunday\, January 10 from </span><span style="color: black\; font-size: 11pt">11:30 a.m.</span><span style="color: black\; font-size: 11pt"> to </span><span style="color: black\; font-size: 11pt">3:30 p.m.</span><span style="color: black\; font-size: 11pt"> at the <b>Crystal Lake Holiday Inn</b> on Route 31 and Three Oaks Roads.&nbsp\;Admission is Free! </span><span style="color: black\; font-size: 11pt">There will be free travel seminars on &nbsp\;</span><span style="color: black\; font-size: 11pt">Alaska</span><span style="color: black\; font-size: 11pt">\, Europe/River Cruising\, </span><span style="color: black\; font-size: 11pt">Hawaii</span><span style="color: black\; font-size: 11pt"> and more. </span><span style="color: black\; font-size: 11pt">Enter for a chance to win the grand prize\, 3 Nights Dreams Villa Magna in&nbsp\;Puerta Vallarta. </span><span style="color: black\; font-size: 11pt">For more information\, contact <b>Neelie Kruse</b> at (847) 639-3300 or <a href="/mc/compose?to=neelie@carytravelexpress.com" rel="nofollow" target="_blank" ymailto="mailto:neelie@carytravelexpress.com"><span style="color: black">neelie@carytravelexpress.com</span></a>. Visit</span><span style="color: black\; font-size: 11pt"><a href="http://%20www.carytravelexpress.com/" rel="nofollow" target="_blank"><span style="color: black"> www.carytravelexpress.com</span></a>.</span></div>
LOCATION:Crystal Lake Holiday Inn Route 31 and Three Oaks RoadsCrystal Lake\, IL
UID:e.138.692
SEQUENCE:3
DTSTAMP:20260424T113544Z
URL:https://business.carygrovechamber.com/events/details/12th-annual-travel-show-hosted-by-cary-travel-express-01-10-2010-692
END:VEVENT

END:VCALENDAR
