BEGIN:VCALENDAR
VERSION:2.0
PRODID:-//ChamberMaster//Event Calendar 2.0//EN
METHOD:PUBLISH
X-PUBLISHED-TTL:P3D
REFRESH-INTERVAL:P3D
CALSCALE:GREGORIAN
BEGIN:VEVENT
DTSTART;VALUE=DATE:20090919
DTEND;VALUE=DATE:20090920
TRANSP:TRANSPARENT
X-MICROSOFT-CDO-ALLDAYEVENT:TRUE
SUMMARY:1st Annual Safety Fair at Buffalo Wild Wings
DESCRIPTION:Buffalo Wild Wings in Crystal Lake is having their 1st Annual Safety Fair on Saturday\, September 19 from 9 a.m. to 12 noon at their restaurant located at 5755 Northwest Hwy. in Crystal Lake.  There will be a police squad car tour\, car seat safety check and fire engine tour.  Free kids meal with the purchase of an adult entr e and balloons and coloring books for the kids.  Play games for a chance to win prizes!  Visit with Buffalo Wild Wings mascot\, Blaze.  To reach Buffalo Wild Wings\, call (815) 356-0333 or visit www.buffalowildwings.com.
X-ALT-DESC;FMTTYPE=text/html:<div><p class="MsoNormal" style="line-height: 14.4pt\; margin: 0in 0in 0pt"><b style="mso-bidi-font-weight: normal"><span style="font-family: Arial\; color: black\; font-size: 11pt\; mso-bidi-font-size: 12.0pt\; mso-bidi-font-family: 'Times New Roman'">Buffalo Wild Wings</span></b><span style="font-family: Arial\; color: black\; font-size: 11pt\; mso-bidi-font-size: 12.0pt\; mso-bidi-font-family: 'Times New Roman'"> in </span><st1:city><st1:place><span style="font-family: Arial\; color: black\; font-size: 11pt\; mso-bidi-font-size: 12.0pt\; mso-bidi-font-family: 'Times New Roman'">Crystal Lake</span></st1:place></st1:city><span style="font-family: Arial\; color: black\; font-size: 11pt\; mso-bidi-font-size: 12.0pt\; mso-bidi-font-family: 'Times New Roman'"> is having their 1<sup>st</sup> Annual Safety Fair on Saturday\, September 19 from </span><st1:time hour="9" minute="0"><span style="font-family: Arial\; color: black\; font-size: 11pt\; mso-bidi-font-size: 12.0pt\; mso-bidi-font-family: 'Times New Roman'">9 a.m.</span></st1:time><span style="font-family: Arial\; color: black\; font-size: 11pt\; mso-bidi-font-size: 12.0pt\; mso-bidi-font-family: 'Times New Roman'"> to </span><st1:time hour="12" minute="0"><span style="font-family: Arial\; color: black\; font-size: 11pt\; mso-bidi-font-size: 12.0pt\; mso-bidi-font-family: 'Times New Roman'">12 noon</span></st1:time><span style="font-family: Arial\; color: black\; font-size: 11pt\; mso-bidi-font-size: 12.0pt\; mso-bidi-font-family: 'Times New Roman'"> at their restaurant located at </span><st1:street><st1:address><span style="font-family: Arial\; color: black\; font-size: 11pt\; mso-bidi-font-size: 12.0pt\; mso-bidi-font-family: 'Times New Roman'">5755 Northwest Hwy.</span></st1:address></st1:street><span style="font-family: Arial\; color: black\; font-size: 11pt\; mso-bidi-font-size: 12.0pt\; mso-bidi-font-family: 'Times New Roman'"> in </span><st1:city><st1:place><span style="font-family: Arial\; color: black\; font-size: 11pt\; mso-bidi-font-size: 12.0pt\; mso-bidi-font-family: 'Times New Roman'">Crystal Lake</span></st1:place></st1:city><span style="font-family: Arial\; color: black\; font-size: 11pt\; mso-bidi-font-size: 12.0pt\; mso-bidi-font-family: 'Times New Roman'">.<span style="mso-spacerun: yes">&nbsp\; </span>There will be a police squad car tour\, car seat safety check and fire engine tour.<span style="mso-spacerun: yes">&nbsp\; </span>Free kids meal with the purchase of an adult entr&eacute\;e and balloons and coloring books for the kids.<span style="mso-spacerun: yes">&nbsp\; </span>Play games for a chance to win prizes!<span style="mso-spacerun: yes">&nbsp\; </span>Visit with Buffalo Wild Wings mascot\, Blaze.<span style="mso-spacerun: yes">&nbsp\; </span>To reach Buffalo Wild Wings\, call (815) 356-0333 or visit www.buffalowildwings.com.<o:p></o:p></span></p></div>
LOCATION:Saturday\, September 19 from 9 a.m. to 12
UID:e.138.576
SEQUENCE:3
DTSTAMP:20260424T163748Z
URL:https://business.carygrovechamber.com/events/details/1st-annual-safety-fair-at-buffalo-wild-wings-09-19-2009-576
END:VEVENT

END:VCALENDAR
