BEGIN:VCALENDAR
VERSION:2.0
PRODID:-//ChamberMaster//Event Calendar 2.0//EN
METHOD:PUBLISH
X-PUBLISHED-TTL:P3D
REFRESH-INTERVAL:P3D
CALSCALE:GREGORIAN
BEGIN:VEVENT
DTSTART;VALUE=DATE:20090912
DTEND;VALUE=DATE:20090913
TRANSP:TRANSPARENT
X-MICROSOFT-CDO-ALLDAYEVENT:TRUE
SUMMARY:2009 Signature Gala
DESCRIPTION:Advocate Good Shepherd Hospital will hold its 2009 Signature Gala\, "Pearls of Life: 30 Years of Doing Good" on Saturday\, September 12 at the Kocourek Family Estate in Barrington Hills. Proceeds from the 2009 Signature Gala will be directed toward the Cancer Care Services Patient Navigation Program\, a resource for patients with a cancer diagnosis and their families. For more information\, contact Rebecca Strong at (847) 381-9103. Sponsorship opportunities are available.
X-ALT-DESC;FMTTYPE=text/html:<div>Advocate Good Shepherd Hospital will hold its 2009 Signature Gala\, &quot\;Pearls of Life: 30 Years of Doing Good&quot\; on Saturday\, September 12 at the Kocourek Family Estate in Barrington Hills. Proceeds from the 2009 Signature Gala will be directed toward the Cancer Care Services Patient Navigation Program\, a resource for patients with a cancer diagnosis and their families. For more information\, contact Rebecca Strong at (847) 381-9103. Sponsorship opportunities are available.</div>
LOCATION:Kocourek Family Estate in Barrington Hills
UID:e.138.541
SEQUENCE:3
DTSTAMP:20260424T163532Z
URL:https://business.carygrovechamber.com/events/details/2009-signature-gala-09-12-2009-541
END:VEVENT

END:VCALENDAR
