BEGIN:VCALENDAR
VERSION:2.0
PRODID:-//ChamberMaster//Event Calendar 2.0//EN
METHOD:PUBLISH
X-PUBLISHED-TTL:P3D
REFRESH-INTERVAL:P3D
CALSCALE:GREGORIAN
BEGIN:VEVENT
DTSTART;VALUE=DATE:20140314
DTEND;VALUE=DATE:20140315
TRANSP:TRANSPARENT
X-MICROSOFT-CDO-ALLDAYEVENT:TRUE
SUMMARY:2015 Community Showcase Early Registration Deadline
DESCRIPTION:Save on your 2015 Community Showcase booth registration!\n\n\n\nReserve your booth for 2015 Cary Grove Community Showcase at 2014 pricing for only $50. Reservation MUST be made by Friday\, March 14\, 2014. Reservation savings opportunity available to 2014 participants only. May only be used to reserve your business's 2014 booth location.
X-ALT-DESC;FMTTYPE=text/html:Save on your 2015 Community Showcase booth registration!<br />\n<br />\nReserve your booth for 2015 Cary Grove Community Showcase at 2014 pricing for only $50. Reservation MUST be made by Friday\, March 14\, 2014.&nbsp\;Reservation savings opportunity available to 2014 participants only. May only be used to reserve your business&#39\;s 2014 booth location.&nbsp\;
LOCATION:
UID:e.138.4282
SEQUENCE:3
DTSTAMP:20260424T231139Z
URL:https://business.carygrovechamber.com/events/details/2015-community-showcase-early-registration-deadline-03-14-2014-4282
END:VEVENT

END:VCALENDAR
