BEGIN:VCALENDAR
VERSION:2.0
PRODID:-//ChamberMaster//Event Calendar 2.0//EN
METHOD:PUBLISH
X-PUBLISHED-TTL:P3D
REFRESH-INTERVAL:P3D
CALSCALE:GREGORIAN
BEGIN:VEVENT
DTSTART;VALUE=DATE:20070609
DTEND;VALUE=DATE:20070610
TRANSP:TRANSPARENT
X-MICROSOFT-CDO-ALLDAYEVENT:TRUE
SUMMARY:2nd Annual Jaycee Idol
DESCRIPTION:The Cary-Grove Jaycees are hosting the 2nd Annual Jaycee Idol competition at Coleman's in the Park\, Industrial Drive\, Cary).  The singing competition is open to adults 21 and older to win cash prizes\, and 1st place wins the opportunity to open this year's fireworks at the Jaycees Cary Days event.  Registration opens at 7:30pm and continues until 9:00 pm on the day of the event.\n\nRules and information are available on our website at www.carygrovejaycees.org
X-ALT-DESC;FMTTYPE=text/html:The Cary-Grove Jaycees are hosting the 2nd Annual Jaycee Idol competition at Coleman's in the Park\, Industrial Drive\, Cary).  The singing competition is open to adults 21 and older to win cash prizes\, and 1st place wins the opportunity to open this year's fireworks at the Jaycees Cary Days event.  Registration opens at 7:30pm and continues until 9:00 pm on the day of the event.\n\nRules and information are available on our website at www.carygrovejaycees.org
LOCATION:Coleman's in the Park\, Industrial Drive\, Cary
UID:e.138.71
SEQUENCE:3
DTSTAMP:20260425T231320Z
URL:https://business.carygrovechamber.com/events/details/2nd-annual-jaycee-idol-06-09-2007-71
END:VEVENT

END:VCALENDAR
