BEGIN:VCALENDAR
VERSION:2.0
PRODID:-//ChamberMaster//Event Calendar 2.0//EN
METHOD:PUBLISH
X-PUBLISHED-TTL:P3D
REFRESH-INTERVAL:P3D
CALSCALE:GREGORIAN
BEGIN:VEVENT
DTSTART;VALUE=DATE:20080510
DTEND;VALUE=DATE:20080511
TRANSP:TRANSPARENT
X-MICROSOFT-CDO-ALLDAYEVENT:TRUE
SUMMARY:3 Blonde Moms
DESCRIPTION:They?re back! Quirky Maryellen Hooper from The Tonight Show\, sassy Helen Keaney from the Style Network and perky Joanie Fagan from The Drew Carey Show are the stars of this unique and hysterical stand-up comedy show! This top notch\, high energy show is jam packed and full of hysterical material about being a mom\, having a mom\, husbands\, in-laws and more. Great gift idea for Mother?s Day!
X-ALT-DESC;FMTTYPE=text/html:They?re back! Quirky Maryellen Hooper from The Tonight Show\, sassy Helen Keaney from the Style Network and perky Joanie Fagan from The Drew Carey Show are the stars of this unique and hysterical stand-up comedy show! This top notch\, high energy show is jam packed and full of hysterical material about being a mom\, having a mom\, husbands\, in-laws and more. Great gift idea for Mother?s Day!
LOCATION:Raue Center For The Arts 26 N. Williams Street Crystal Lake\, IL 60014
UID:e.138.179
SEQUENCE:3
DTSTAMP:20260425T153839Z
URL:https://business.carygrovechamber.com/events/details/3-blonde-moms-05-10-2008-179
END:VEVENT

END:VCALENDAR
