BEGIN:VCALENDAR
VERSION:2.0
PRODID:-//ChamberMaster//Event Calendar 2.0//EN
METHOD:PUBLISH
X-PUBLISHED-TTL:P3D
REFRESH-INTERVAL:P3D
CALSCALE:GREGORIAN
BEGIN:VEVENT
DTSTART;VALUE=DATE:20090721
DTEND;VALUE=DATE:20090722
TRANSP:TRANSPARENT
X-MICROSOFT-CDO-ALLDAYEVENT:TRUE
SUMMARY:3 Secrets to Prevent & Reverse Burnout
DESCRIPTION:Power Partners of Cary Grove\, a networking and referral group\, presents a seminar\, "3 Secrets to Prevent & Reverse Burnout" by local business coach Victoria Cook on Tuesday\, July 21 at Chalet Hills Golf Club\, located at 943 Rawson Bridge Road. The seminar will address how business owners can reverse those feelings of stress and burnout\, giving us more time and energy to do what we really want to do. This seminar is free for Cary Grove Chamber members. Continental breakfast is available for $5.00 or order from Chalet's menu. Registration\, networking and breakfast will begin at 7:30 a.m. and Victoria Cook's presentation will begin at 8 a.m. For more information\, call Tom Riordan of Dorion-Gray Retirement Planning at (847) 281-9468 or visit www.powerpartners-cg.com.
X-ALT-DESC;FMTTYPE=text/html:<div>Power Partners of Cary Grove\, a networking and referral group\,&nbsp\;presents a seminar\, &quot\;3 Secrets to Prevent &amp\; Reverse Burnout&quot\; by local business coach Victoria Cook on Tuesday\, July 21 at Chalet Hills Golf Club\, located at 943 Rawson Bridge Road. The seminar will address how business owners can reverse those feelings of stress and burnout\, giving us more time and energy to do what we really want to do. This seminar is free for Cary Grove Chamber members. Continental breakfast is available for $5.00 or order from Chalet's menu. Registration\, networking and breakfast will begin at 7:30 a.m. and Victoria Cook&rsquo\;s presentation will begin at 8 a.m. For more information\, call Tom Riordan of Dorion-Gray Retirement Planning at (847) 281-9468 or visit www.powerpartners-cg.com.</div>
LOCATION:Chalet Hills Golf Club943 Rawson Bridge Road in Cary
UID:e.138.508
SEQUENCE:3
DTSTAMP:20260424T191729Z
URL:https://business.carygrovechamber.com/events/details/3-secrets-to-prevent-reverse-burnout-07-21-2009-508
END:VEVENT

END:VCALENDAR
