BEGIN:VCALENDAR
VERSION:2.0
PRODID:-//ChamberMaster//Event Calendar 2.0//EN
METHOD:PUBLISH
X-PUBLISHED-TTL:P3D
REFRESH-INTERVAL:P3D
CALSCALE:GREGORIAN
BEGIN:VEVENT
DTSTART;VALUE=DATE:20070906
DTEND;VALUE=DATE:20070907
TRANSP:TRANSPARENT
X-MICROSOFT-CDO-ALLDAYEVENT:TRUE
SUMMARY:6th Annual Chamber Golf Outing
DESCRIPTION:6th Annual Chamber Golf Outing\n\nThursday\, September 6\n\nGolf and network with the area's top business leaders and executives.\n\nA portion of the proceeds will benefit the Cary Grove Food Pantry Register by August 10 to win a free future foursome!
X-ALT-DESC;FMTTYPE=text/html:<div><font size="3"><strong>6th Annual Chamber Golf Outing<br /><br />Thursday\, September 6<br /><br /></strong>Golf and network with the area&rsquo\;s top business leaders and executives.<br /><br />A portion of the proceeds will benefit the Cary Grove Food Pantry</font></div><div>&nbsp\;</div><div><font size="3">Register by August 10 to&nbsp\;win a free future foursome!</font></div>
LOCATION:943 Rawson Bridge Road\, Cary
UID:e.138.102
SEQUENCE:3
DTSTAMP:20260426T005734Z
URL:https://business.carygrovechamber.com/events/details/6th-annual-chamber-golf-outing-09-06-2007-102
END:VEVENT

END:VCALENDAR
