BEGIN:VCALENDAR
VERSION:2.0
PRODID:-//ChamberMaster//Event Calendar 2.0//EN
METHOD:PUBLISH
X-PUBLISHED-TTL:P3D
REFRESH-INTERVAL:P3D
CALSCALE:GREGORIAN
BEGIN:VEVENT
DTSTART:20091205T003000Z
DTEND:20091205T020000Z
X-MICROSOFT-CDO-ALLDAYEVENT:FALSE
SUMMARY:A Christmas Carol
DESCRIPTION:Join the ghosts of Christmas Past\, Present and Future for this Charles Dickens holiday classic.
X-ALT-DESC;FMTTYPE=text/html:Join the ghosts of Christmas Past\, Present and Future for this Charles Dickens holiday classic.
LOCATION:Raue Center For The Arts26 North Williams StreetCrystal Lake\, IL 60014
UID:e.138.640
SEQUENCE:3
DTSTAMP:20260424T124819Z
URL:https://business.carygrovechamber.com/events/details/a-christmas-carol-12-04-2009-640
END:VEVENT

END:VCALENDAR
