BEGIN:VCALENDAR
VERSION:2.0
PRODID:-//ChamberMaster//Event Calendar 2.0//EN
METHOD:PUBLISH
X-PUBLISHED-TTL:P3D
REFRESH-INTERVAL:P3D
CALSCALE:GREGORIAN
BEGIN:VEVENT
DTSTART:20090404T230000Z
DTEND:20090405T043000Z
X-MICROSOFT-CDO-ALLDAYEVENT:FALSE
SUMMARY:A Groovin Gala\, Dancing Through The 60's Presented by Home Of The Sparrow
DESCRIPTION:Enjoy a great dinner\,bidding on live and silent auction items\, raffles\,games\,costume contets and of course dancing to the sounds of the 60's!!
X-ALT-DESC;FMTTYPE=text/html:Enjoy a great dinner\,bidding on live and silent auction items\, raffles\,games\,costume contets and of course dancing to the sounds of the 60's!!
LOCATION:Bull Valley Golf Club\, 1311 Club Road in Woodstock
UID:e.138.417
SEQUENCE:3
DTSTAMP:20260424T231543Z
URL:https://business.carygrovechamber.com/events/details/a-groovin-gala-dancing-through-the-60-s-presented-by-home-of-the-sparrow-04-04-2009-417
END:VEVENT

END:VCALENDAR
