BEGIN:VCALENDAR
VERSION:2.0
PRODID:-//ChamberMaster//Event Calendar 2.0//EN
METHOD:PUBLISH
X-PUBLISHED-TTL:P3D
REFRESH-INTERVAL:P3D
CALSCALE:GREGORIAN
BEGIN:VEVENT
DTSTART;VALUE=DATE:20101010
DTEND;VALUE=DATE:20101101
TRANSP:TRANSPARENT
X-MICROSOFT-CDO-ALLDAYEVENT:TRUE
SUMMARY:A Helping Hand For Breast Cancer Awareness
DESCRIPTION:As October is Breast Cancer Awareness Month\, REMBACZ PHOTOGRAPHY is helping support this worthwhile cause by offering Family Portrait specials with a donation to Sage Cancer Center at Centegra Hospital in McHenry. Session fees will be $95 to book and hold a session. $25 from each session will be donation to the Cancer Center. Call today to book your session for your family fall and holiday portraits. Call 847-639-0098\, 10am-5pm Tuesday thru Saturday to book your session.
X-ALT-DESC;FMTTYPE=text/html:As October is Breast Cancer Awareness Month\, REMBACZ PHOTOGRAPHY is helping support this worthwhile cause by offering Family Portrait specials with a donation to Sage Cancer Center at Centegra Hospital in McHenry. Session fees will be $95 to book and hold a session. $25 from each session will be donation to the Cancer Center. Call today to book your session for your family fall and holiday portraits. Call 847-639-0098\, 10am-5pm Tuesday thru Saturday to book your session.
LOCATION:On Location
UID:e.138.2422
SEQUENCE:3
DTSTAMP:20260423T214152Z
URL:https://business.carygrovechamber.com/events/details/a-helping-hand-for-breast-cancer-awareness-10-10-2010-2422
END:VEVENT

END:VCALENDAR
