BEGIN:VCALENDAR
VERSION:2.0
PRODID:-//ChamberMaster//Event Calendar 2.0//EN
METHOD:PUBLISH
X-PUBLISHED-TTL:P3D
REFRESH-INTERVAL:P3D
CALSCALE:GREGORIAN
BEGIN:VEVENT
DTSTART:20101102T233000Z
DTEND:20101103T010000Z
X-MICROSOFT-CDO-ALLDAYEVENT:FALSE
SUMMARY:A Matter of the Heart: Open Heart Surgery-Free Community Health Lecture
DESCRIPTION:Open heart surgery comes with fear and apprehension.  Sometimes understanding procedures helps eliminate these emotions.  Dr. Timothy Votapka will demostrate (using a cow heart) how open heart surgery is performed and offer a unique perspective in understanding this procedure.  Join us for this visual experience of open heart surgery.  Advocate Good Shepherd Hospital's cardiac program is designated as being a "Center of Distrinction for Cardiac Care" by Blue Cross/Blue Shield\, one of 12 in Illinois. A light meal will be served!
X-ALT-DESC;FMTTYPE=text/html:Open heart surgery comes with fear and apprehension.  Sometimes understanding procedures helps eliminate these emotions.  Dr. Timothy Votapka will demostrate (using a cow heart) how open heart surgery is performed and offer a unique perspective in understanding this procedure.  Join us for this visual experience of open heart surgery.  Advocate Good Shepherd Hospital's cardiac program is designated as being a "Center of Distrinction for Cardiac Care" by Blue Cross/Blue Shield\, one of 12 in Illinois. A light meal will be served!
LOCATION:Advocate Good Shepherd Hospital Prairie Room 450 W. Highway 22 Barrington\, IL 60010
UID:e.138.961
SEQUENCE:3
DTSTAMP:20260423T202425Z
URL:https://business.carygrovechamber.com/events/details/a-matter-of-the-heart-open-heart-surgery-free-community-health-lecture-11-02-2010-961
END:VEVENT

END:VCALENDAR
