BEGIN:VCALENDAR
VERSION:2.0
PRODID:-//ChamberMaster//Event Calendar 2.0//EN
METHOD:PUBLISH
X-PUBLISHED-TTL:P3D
REFRESH-INTERVAL:P3D
CALSCALE:GREGORIAN
BEGIN:VEVENT
DTSTART:20120612T140000Z
DTEND:20120613T180000Z
X-MICROSOFT-CDO-ALLDAYEVENT:FALSE
SUMMARY:AARP Drivers Safty Course
DESCRIPTION:Advocate Good Shepherd Hospital\n\nAARP Drivers Safety Program\n\n\n\n\n\nThe Senior Advocate Program at Advocate Good Shepherd Hospital will be hosting the AARP Drivers Safety Course. This 8 hour course is taught by volunteers and assists with the following:\n\n\n\n  Driving defensively\n\n  Dealing with aggressive drivers\n\n  Adjusting to vision and hearing changes\n\n\n\nAuto insurance discounts are available (ask your insurance company or agent). You must attend both sessions to be eligible for this discount.\n\n\n\nDates: Tuesday\, June 12th\, 2012\n\nWednesday\, June 13th\, 2012\n\n\n\nTime: 9am-1pm both days\n\n\n\nWhere: Advocate Good Shepherd Hospital\n\n450 W Hwy 22\n\nBarrington\, IL\n\nPrairie Room\n\n\n\nMinimal course fee must be made on the day of class.\n\n$14.00 payable to AARP for non-members.\n\n$12.00 payable to AARP for members. (members must show card)\n\n\n\nTo register for this program call 1-800-3ADVOCATE (1-800-323-8622)\n\nwww.advocatehealth.com/gshep\n\n\n\nDon't forget to mention class code 3S03
X-ALT-DESC;FMTTYPE=text/html:Advocate Good Shepherd Hospital<br />\nAARP Drivers Safety Program<br />\n<br />\n<br />\nThe Senior Advocate Program at Advocate Good Shepherd Hospital will be hosting the AARP Drivers Safety Course. This 8 hour course is taught by volunteers and assists with the following:<br />\n<br />\n&bull\; Driving defensively<br />\n&bull\; Dealing with aggressive drivers<br />\n&bull\; Adjusting to vision and hearing changes<br />\n<br />\nAuto insurance discounts are available (ask your insurance company or agent). You must attend both sessions to be eligible for this discount.<br />\n<br />\nDates: Tuesday\, June 12th\, 2012<br />\nWednesday\, June 13th\, 2012<br />\n<br />\nTime: 9am-1pm both days<br />\n<br />\nWhere: Advocate Good Shepherd Hospital<br />\n450 W Hwy 22<br />\nBarrington\, IL<br />\nPrairie Room<br />\n<br />\nMinimal course fee must be made on the day of class.<br />\n$14.00 payable to AARP for non-members.<br />\n$12.00 payable to AARP for members. (members must show card)<br />\n<br />\nTo register for this program call 1-800-3ADVOCATE (1-800-323-8622)<br />\nwww.advocatehealth.com/gshep<br />\n<br />\nDon&rsquo\;t forget to mention class code 3S03<br />\n<br />\n<br />\n
LOCATION:Advocate Good Shepherd Hospital 450 W. Highway 22\, Barrington\, IL
UID:e.138.3408
SEQUENCE:3
DTSTAMP:20260424T061040Z
URL:https://business.carygrovechamber.com/events/details/aarp-drivers-safty-course-06-12-2012-3408
END:VEVENT

END:VCALENDAR
