BEGIN:VCALENDAR
VERSION:2.0
PRODID:-//ChamberMaster//Event Calendar 2.0//EN
METHOD:PUBLISH
X-PUBLISHED-TTL:P3D
REFRESH-INTERVAL:P3D
CALSCALE:GREGORIAN
BEGIN:VEVENT
DTSTART;VALUE=DATE:20070813
DTEND;VALUE=DATE:20070814
TRANSP:TRANSPARENT
X-MICROSOFT-CDO-ALLDAYEVENT:TRUE
SUMMARY:Adult & Child Rehab Center's 19th Annual Golf Outing & Dinner Auction
DESCRIPTION:Golfers will enjoy 18-holes of golf at the McHenry Country Club. Games and drinks will be available on the course. After golfing\, join us for a reverse raffle with the chance to win $4\,000\, dinner and a silent auction. The event will be capped off with amazing acappella live auction with special guest auctioneers\, Ac.Rock. Anyone interested in golfing\, attending the dinner\, becoming a sponsor or donating an auction item should call the Rehab Center at (815) 338-1707.
X-ALT-DESC;FMTTYPE=text/html:Golfers will enjoy 18-holes of golf at the McHenry Country Club. Games and drinks will be available on the course. After golfing\, join us for a reverse raffle with the chance to win $4\,000\, dinner and a silent auction. The event will be capped off with amazing acappella live auction with special guest auctioneers\, Ac.Rock. Anyone interested in golfing\, attending the dinner\, becoming a sponsor or donating an auction item should call the Rehab Center at (815) 338-1707.
LOCATION:McHenry Country Club\, McHenry\, IL
UID:e.138.96
SEQUENCE:3
DTSTAMP:20260426T015257Z
URL:https://business.carygrovechamber.com/events/details/adult-child-rehab-center-s-19th-annual-golf-outing-dinner-auction-08-13-2007-96
END:VEVENT

END:VCALENDAR
