BEGIN:VCALENDAR
VERSION:2.0
PRODID:-//ChamberMaster//Event Calendar 2.0//EN
METHOD:PUBLISH
X-PUBLISHED-TTL:P3D
REFRESH-INTERVAL:P3D
CALSCALE:GREGORIAN
BEGIN:VEVENT
DTSTART;VALUE=DATE:20071001
DTEND;VALUE=DATE:20071002
TRANSP:TRANSPARENT
X-MICROSOFT-CDO-ALLDAYEVENT:TRUE
SUMMARY:Adult & Child Rehab Center's 2nd Annual Women's Golf Outing & Tea
DESCRIPTION:Join the ladies of McHenry County for 9-holes of golf at Chalet Hills Golf Club in Cary\, IL. Lunch\, games\, prizes\, snacks and drinks will be available on the course. Afterwards\, join us for an afternoon tea that will include an array of silent auction items. This event is a great time and is for golfers of all skill levels.
X-ALT-DESC;FMTTYPE=text/html:Join the ladies of McHenry County for 9-holes of golf at Chalet Hills Golf Club in Cary\, IL. Lunch\, games\, prizes\, snacks and drinks will be available on the course. Afterwards\, join us for an afternoon tea that will include an array of silent auction items. This event is a great time and is for golfers of all skill levels.
LOCATION:Chalet Hills Golf Club\, Cary\, IL
UID:e.138.97
SEQUENCE:3
DTSTAMP:20260426T005626Z
URL:https://business.carygrovechamber.com/events/details/adult-child-rehab-center-s-2nd-annual-women-s-golf-outing-tea-10-01-2007-97
END:VEVENT

END:VCALENDAR
