BEGIN:VCALENDAR
VERSION:2.0
PRODID:-//ChamberMaster//Event Calendar 2.0//EN
METHOD:PUBLISH
X-PUBLISHED-TTL:P3D
REFRESH-INTERVAL:P3D
CALSCALE:GREGORIAN
BEGIN:VEVENT
DTSTART;VALUE=DATE:20080426
DTEND;VALUE=DATE:20080427
TRANSP:TRANSPARENT
X-MICROSOFT-CDO-ALLDAYEVENT:TRUE
SUMMARY:Ain't Misbehavin'
DESCRIPTION:One of the most endearing and enduring musicals\, Ain?t Misbehavin? started with a concept?the music of Fats Waller?and sparked it with high-voltage energy. When this extraordinary show opened on Broadway\, it made history by winning every Tony award\, including best musical. The New York Times says\, ?Ain?t Misbehavin? comes from truth and fills the theatre with love. It is authentic from start to finish!?
X-ALT-DESC;FMTTYPE=text/html:One of the most endearing and enduring musicals\, Ain?t Misbehavin? started with a concept?the music of Fats Waller?and sparked it with high-voltage energy. When this extraordinary show opened on Broadway\, it made history by winning every Tony award\, including best musical. The New York Times says\, ?Ain?t Misbehavin? comes from truth and fills the theatre with love. It is authentic from start to finish!?
LOCATION:Raue Center For The Arts 26 N. Williams Street Crystal Lake\, IL 60014
UID:e.138.176
SEQUENCE:3
DTSTAMP:20260425T165139Z
URL:https://business.carygrovechamber.com/events/details/ain-t-misbehavin-04-26-2008-176
END:VEVENT

END:VCALENDAR
