BEGIN:VCALENDAR
VERSION:2.0
PRODID:-//ChamberMaster//Event Calendar 2.0//EN
METHOD:PUBLISH
X-PUBLISHED-TTL:P3D
REFRESH-INTERVAL:P3D
CALSCALE:GREGORIAN
BEGIN:VEVENT
DTSTART:20080724T134500Z
DTEND:20080724T143000Z
X-MICROSOFT-CDO-ALLDAYEVENT:FALSE
SUMMARY:Aldi Ribbon Cutting
DESCRIPTION:Aldi Ribbon Cutting
X-ALT-DESC;FMTTYPE=text/html:<h2>Aldi Ribbon Cutting</h2>
LOCATION:3340 Three Oaks Rd.\, Cary
UID:e.138.266
SEQUENCE:3
DTSTAMP:20260425T105147Z
URL:https://business.carygrovechamber.com/events/details/aldi-ribbon-cutting-07-24-2008-266
END:VEVENT

END:VCALENDAR
