BEGIN:VCALENDAR
VERSION:2.0
PRODID:-//ChamberMaster//Event Calendar 2.0//EN
METHOD:PUBLISH
X-PUBLISHED-TTL:P3D
REFRESH-INTERVAL:P3D
CALSCALE:GREGORIAN
BEGIN:VEVENT
DTSTART:20100211T140000Z
DTEND:20100211T160000Z
X-MICROSOFT-CDO-ALLDAYEVENT:FALSE
SUMMARY:All Member Breakfast
DESCRIPTION:All Member Breakfast   February 11Be sure to join us for our All Member Breakfast on Thursday\, February 11 from 8 to 10 a.m. at the Fox River Grove Village Hall\, 305 Illinois Street.  Enjoy a free continental breakfast!  Everyone is welcome!  This is a great opportunity to meet new people and make connections and shop the networks.  Breakfast treats will be provided by Costco of Lake Zurich.
X-ALT-DESC;FMTTYPE=text/html:<h1 style="margin: 0in 0in 0pt"><font size="3">All Member Breakfast <font face="Arial"><span style="font-family: &quot\;Times New Roman&quot\;\,&quot\;serif&quot\;\; mso-ascii-font-family: Batang">&ndash\;</span> February 11</font></font></h1><p class="MsoNormal" style="line-height: 14.4pt\; margin: 0in 0in 0pt"><font size="3"><span style="font-family: &quot\;Arial&quot\;\,&quot\;sans-serif&quot\;\; color: black\; font-size: 11pt\; mso-bidi-font-size: 10.0pt">Be sure to join us for our All Member Breakfast on </span><span style="font-family: &quot\;Arial&quot\;\,&quot\;sans-serif&quot\;\; color: black\; font-size: 11pt\; mso-bidi-font-size: 12.0pt">Thursday\, February 11 from <st1:time hour="8" minute="0" w:st="on">8</st1:time> to <st1:time hour="10" minute="0" w:st="on">10 a.m.</st1:time> at the Fox River Grove Village Hall\, <st1:street w:st="on"><st1:address w:st="on">305 Illinois Street</st1:address></st1:street>.<span style="mso-spacerun: yes">&nbsp\; </span>Enjoy a free continental breakfast!<span style="mso-spacerun: yes">&nbsp\; </span>Everyone is welcome!<span style="mso-spacerun: yes">&nbsp\; </span>This is a great opportunity to meet new people and make connections and shop the networks.<span style="mso-spacerun: yes">&nbsp\; </span>Breakfast treats will be provided by <strong style="mso-bidi-font-weight: normal">Costco</strong> of <st1:place w:st="on"><st1:placetype w:st="on">Lake</st1:placetype> <st1:placename w:st="on">Zurich</st1:placename></st1:place>.<o:p></o:p></span></font></p>
LOCATION:Fox River Grove Village Hall\, 305 Illinois Street.
UID:e.138.404
SEQUENCE:3
DTSTAMP:20260424T101132Z
URL:https://business.carygrovechamber.com/events/details/all-member-breakfast-02-11-2010-404
END:VEVENT

END:VCALENDAR
