BEGIN:VCALENDAR
VERSION:2.0
PRODID:-//ChamberMaster//Event Calendar 2.0//EN
METHOD:PUBLISH
X-PUBLISHED-TTL:P3D
REFRESH-INTERVAL:P3D
CALSCALE:GREGORIAN
BEGIN:VEVENT
DTSTART:20110322T130000Z
DTEND:20110322T150000Z
X-MICROSOFT-CDO-ALLDAYEVENT:FALSE
SUMMARY:All Member Breakfast
DESCRIPTION:Tuesday\, March 22\n\n	All Member Open Breakfast\n\n	 \n\n	FRG Village Hall\, 305 Illinois St.\n\n	8 a.m.   10 a.m.\n\n	 \n\n	Free! All members and a guest are welcome!\n\n	\n\n	 \n\n	Enjoy coffee and breakfast treats!
X-ALT-DESC;FMTTYPE=text/html:<div style="margin: 0in 0in 0pt">\n	<strong><font size="5">Tuesday\, March 22</font></strong></div>\n<div style="margin: 0in 0in 0pt">\n	<strong><font size="5">All Member Open Breakfast</font></strong></div>\n<div style="margin: 0in 0in 0pt">\n	&nbsp\;</div>\n<div style="margin: 0in 0in 0pt">\n	<font size="5">FRG Village Hall\, 305 Illinois St.</font></div>\n<div style="margin: 0in 0in 0pt">\n	<font size="5">8 a.m. &ndash\; 10 a.m.</font></div>\n<div style="margin: 0in 0in 0pt">\n	&nbsp\;</div>\n<div style="margin: 0in 0in 0pt">\n	<font size="5">Free! All members and a guest are welcome!</font><br />\n	<br />\n	&nbsp\;</div>\n<div style="text-align: center\; margin: 0in 0in 0pt">\n	<em><font size="5">Enjoy coffee and breakfast treats!</font></em></div>\n
LOCATION:FRG Village Hall\, 305 Illinois St.
UID:e.138.430
SEQUENCE:3
DTSTAMP:20260423T145725Z
URL:https://business.carygrovechamber.com/events/details/all-member-breakfast-03-22-2011-430
END:VEVENT

END:VCALENDAR
