BEGIN:VCALENDAR
VERSION:2.0
PRODID:-//ChamberMaster//Event Calendar 2.0//EN
METHOD:PUBLISH
X-PUBLISHED-TTL:P3D
REFRESH-INTERVAL:P3D
CALSCALE:GREGORIAN
BEGIN:VEVENT
DTSTART:20090916T130000Z
DTEND:20090916T150000Z
X-MICROSOFT-CDO-ALLDAYEVENT:FALSE
SUMMARY:All Member Breakfast
DESCRIPTION:All Member BreakfastWednesday\, September 16The Chamber is celebrating 45 years!Cary Village Hall\, 655 Village Hall Drive 8   10 a.m.Enjoy complimentary continential breakfast\, sponsored by Dunkin Donuts Cary. Learn about Chamber services and programsTalk to local membersShop the Networking GroupsGet perspectives from other membersProvide your input and ideas
X-ALT-DESC;FMTTYPE=text/html:<p class="MsoNormal" style="margin: 0in 0in 0pt"><strong style="mso-bidi-font-weight: normal"><font face="Times New Roman"><font size="5">All Member Breakfast<o:p></o:p></font></font></strong></p><div><font size="3" face="Times New Roman"><p class="MsoNormal" style="margin: 0in 0in 0pt"><strong style="mso-bidi-font-weight: normal"><font face="Times New Roman"><font size="5">Wednesday\, September 16</font></font></strong></p><p class="MsoNormal" style="margin: 0in 0in 0pt"><strong style="mso-bidi-font-weight: normal"><font face="Times New Roman"><font size="5">The Chamber is celebrating 45 years!</font></font></strong></p><p class="MsoNormal" style="margin: 0in 0in 0pt">Cary Village Hall\, <st1:street w:st="on"><st1:address w:st="on">655 Village Hall Drive</st1:address></st1:street></p></font></div><p class="MsoNormal" style="margin: 0in 0in 0pt">&nbsp\;</p><p class="MsoNormal" style="margin: 0in 0in 0pt"><st1:time w:st="on" minute="0" hour="8"><font size="3" face="Times New Roman">8 &ndash\; 10 a.m.</font></st1:time></p><p class="MsoNormal" style="margin: 0in 0in 0pt"><st1:time w:st="on" minute="0" hour="8"></st1:time></p><p class="MsoNormal" style="margin: 0in 0in 0pt">Enjoy complimentary continential breakfast\, sponsored by Dunkin Donuts Cary.</p><p class="MsoNormal" style="margin: 0in 0in 0pt">&nbsp\;</p><ul><li>Learn about Chamber services and programs</li><li>Talk to local members</li><li>Shop the Networking Groups</li><li>Get perspectives from other members</li><li>Provide your input and ideas</li></ul><div>&nbsp\;</div>
LOCATION:Cary Village Hall655 Village Hall Drive\, Cary
UID:e.138.282
SEQUENCE:3
DTSTAMP:20260424T152453Z
URL:https://business.carygrovechamber.com/events/details/all-member-breakfast-09-16-2009-282
END:VEVENT

END:VCALENDAR
