BEGIN:VCALENDAR
VERSION:2.0
PRODID:-//ChamberMaster//Event Calendar 2.0//EN
METHOD:PUBLISH
X-PUBLISHED-TTL:P3D
REFRESH-INTERVAL:P3D
CALSCALE:GREGORIAN
BEGIN:VEVENT
DTSTART;VALUE=DATE:20091112
DTEND;VALUE=DATE:20091113
TRANSP:TRANSPARENT
X-MICROSOFT-CDO-ALLDAYEVENT:TRUE
SUMMARY:Alternative to Plastic Surgery
DESCRIPTION:Join Janine Jozwiak of Nature's Balance Acupuncture on Thursday\, November 12 at 6:30 p.m for a lecture on an exciting alternative to plastic surgery called Mei Zen Cosmetic Acupuncture.  Seating is limited\, so please call to reserve your seat at 815-788-8383.
X-ALT-DESC;FMTTYPE=text/html:Join Janine Jozwiak of Nature's Balance Acupuncture on Thursday\, November 12 at 6:30 p.m for a lecture on an exciting alternative to plastic surgery called Mei Zen Cosmetic Acupuncture.  Seating is limited\, so please call to reserve your seat at 815-788-8383.  
LOCATION:Nature's Balance Acupuncture 260 E. Congress Parkway\, Suite D in Crystal Lake.
UID:e.138.624
SEQUENCE:3
DTSTAMP:20260424T140104Z
URL:https://business.carygrovechamber.com/events/details/alternative-to-plastic-surgery-11-12-2009-624
END:VEVENT

END:VCALENDAR
