BEGIN:VCALENDAR
VERSION:2.0
PRODID:-//ChamberMaster//Event Calendar 2.0//EN
METHOD:PUBLISH
X-PUBLISHED-TTL:P3D
REFRESH-INTERVAL:P3D
CALSCALE:GREGORIAN
BEGIN:VEVENT
DTSTART:20090923T233000Z
DTEND:20090924T010000Z
X-MICROSOFT-CDO-ALLDAYEVENT:FALSE
SUMMARY:Alzheimer's - Understanding the Signs & Symptoms
DESCRIPTION:Dr. Piush Patel of Centegra Healthcare will speak on recognizing the signs and symptoms of Alzheimer's and Dementia\, followed by a discussion\, question and answer period. Don't miss this opportunity to help increase awareness of this disease.  Light refreshements will be served .
X-ALT-DESC;FMTTYPE=text/html:<div>Dr. Piush Patel of Centegra Healthcare will speak on recognizing the signs and symptoms of Alzheimer&rsquo\;s and Dementia\, followed by a discussion\, question and answer period. Don&rsquo\;t miss this opportunity to help increase awareness of this disease.&nbsp\; Light refreshements will be served .</div>
LOCATION:Autumn Leaves495 Alexandra Blvd.Crystal Lake\, IL 60014
UID:e.138.573
SEQUENCE:3
DTSTAMP:20260424T163636Z
URL:https://business.carygrovechamber.com/events/details/alzheimer-s-understanding-the-signs-symptoms-09-23-2009-573
END:VEVENT

END:VCALENDAR
