BEGIN:VCALENDAR
VERSION:2.0
PRODID:-//ChamberMaster//Event Calendar 2.0//EN
METHOD:PUBLISH
X-PUBLISHED-TTL:P3D
REFRESH-INTERVAL:P3D
CALSCALE:GREGORIAN
BEGIN:VEVENT
DTSTART:20080630T163000Z
DTEND:20080630T180000Z
X-MICROSOFT-CDO-ALLDAYEVENT:FALSE
SUMMARY:Ament Open House- Mixer- Ribbon Cutting
DESCRIPTION:Ament\, Inc.\, a professional engineering\, surveying and architectural consulting firm is celebrating their 25th Anniversary this year. To commemorate the event\, Ament invites fellow Chamber members to a Ribbon Cutting and Open House / Mixer.  The Open House / Mixer will occur at Aments' 19 Spring Street offices in downtown Cary on Monday\, June 30 from 11:30 a.m. to 1:00 p.m.\, with Ribbon Cutting at 12:00 Noon. A light lunch and refreshments will be served.
X-ALT-DESC;FMTTYPE=text/html:<div><span style="font-size: 11pt\; color: black"><strong>Ament\, Inc.</strong></span><span style="font-size: 11pt\; color: black">\, a professional engineering\, surveying and architectural consulting firm is celebrating their 25<sup>th</sup> Anniversary this year. To commemorate the event\, Ament invites fellow Chamber members to a Ribbon Cutting and Open House / Mixer.&nbsp\;&nbsp\;The Open House / Mixer will occur at Aments&rsquo\; 19 Spring Street offices in downtown Cary on Monday\, June 30 from 11:30 a.m. to 1:00 p.m.\, with Ribbon Cutting at 12:00 Noon.&nbsp\;A light lunch and refreshments will be served.</span></div>
LOCATION:19 Spring Street\, downtown Cary
UID:e.138.263
SEQUENCE:3
DTSTAMP:20260425T135111Z
URL:https://business.carygrovechamber.com/events/details/ament-open-house-mixer-ribbon-cutting-06-30-2008-263
END:VEVENT

END:VCALENDAR
