BEGIN:VCALENDAR
VERSION:2.0
PRODID:-//ChamberMaster//Event Calendar 2.0//EN
METHOD:PUBLISH
X-PUBLISHED-TTL:P3D
REFRESH-INTERVAL:P3D
CALSCALE:GREGORIAN
BEGIN:VEVENT
DTSTART:20100314T013000Z
DTEND:20100314T040000Z
X-MICROSOFT-CDO-ALLDAYEVENT:FALSE
SUMMARY:American English with Bob Rumba
DESCRIPTION:Celebrate 46 years (almost to the month) after The Beatles' first appearance on the Ed Sullivan show with American English and Bob Rumba as Ed Sullivan!
X-ALT-DESC;FMTTYPE=text/html:<div>Celebrate 46 years (almost to the month) after The Beatles' first appearance on the Ed Sullivan show with American English and Bob Rumba as Ed Sullivan!</div>
LOCATION:Raue Center For The Arts 26 North Williams Street Crystal Lake\, Illinois
UID:e.138.760
SEQUENCE:3
DTSTAMP:20260424T110613Z
URL:https://business.carygrovechamber.com/events/details/american-english-with-bob-rumba-03-13-2010-760
END:VEVENT

END:VCALENDAR
