BEGIN:VCALENDAR
VERSION:2.0
PRODID:-//ChamberMaster//Event Calendar 2.0//EN
METHOD:PUBLISH
X-PUBLISHED-TTL:P3D
REFRESH-INTERVAL:P3D
CALSCALE:GREGORIAN
BEGIN:VEVENT
DTSTART;VALUE=DATE:20100130
DTEND;VALUE=DATE:20100131
TRANSP:TRANSPARENT
X-MICROSOFT-CDO-ALLDAYEVENT:TRUE
SUMMARY:An Evening in Italy Fundraiser by Faith In Action
DESCRIPTION:Faith in Action of McHenry County annual fundraiser\, "Evening in Italy" will be held on Saturday\, January 30 at St. Thomas Church Community Center\, 451 W. Terra Cotta Ave. in Crystal Lake at 6 p.m.  Dinner\, Silent Auction featuring purses\, and Live Entertainment\, retro music from the 20's. Tickets are $20.  Faith in Action is a nonprofit that assist McHenryCounty by providing no cost\, all volunteer services that help seniors live independently in their own homes. To purchase tickets\, call (815) 455.3120 or email staff@fiamchenrycounty.org. Visit www.fiamchenrycounty.org.
X-ALT-DESC;FMTTYPE=text/html:<div><div style="line-height: 14.4pt\; margin: 0in 0in 0pt"><b><span style="color: black\; font-size: 11pt">Faith in Action of McHenry County</span></b><span style="color: black\; font-size: 11pt">&nbsp\;annual fundraiser\, &ldquo\;Evening in </span><span style="color: black\; font-size: 11pt">Italy</span><span style="color: black\; font-size: 11pt">&rdquo\; will be held on Saturday\, January 30 at St. Thomas Church Community Center\, 451 W. Terra Cotta Ave. in Crystal Lake at 6 p.m.&nbsp\; Dinner\, Silent Auction featuring purses\,&nbsp\;and Live Entertainment\, retro music from the 20's. Tickets are $20.&nbsp\;</span></div><div style="line-height: 14.4pt\; margin: 0in 0in 0pt">&nbsp\;</div><div style="line-height: 14.4pt\; margin: 0in 0in 0pt"><span style="color: black\; font-size: 11pt">Faith in Action is&nbsp\;a nonprofit that assist </span><span style="color: black\; font-size: 11pt">McHenry</span><span style="color: black\; font-size: 11pt">County</span><span style="color: black\; font-size: 11pt"> by providing no cost\, all volunteer&nbsp\;services&nbsp\;that help seniors live independently in their own homes.&nbsp\;To purchase tickets\, call (815) 455.3120 or email <a href="mailto:staff@fiamchenrycounty.org">staff@fiamchenrycounty.org</a>.&nbsp\;Visit </span><span style="color: black\; font-size: 11pt"><a target="_blank" href="http://www.fiamchenrycounty.org/"><span style="color: black\; text-decoration: none\; text-underline: none">www.fiamchenrycounty.org</span></a>.</span></div></div>
LOCATION:St. Thomas Church Community Center451 W. Terra Cotta Ave. in Crystal Lake
UID:e.138.727
SEQUENCE:3
DTSTAMP:20260424T113701Z
URL:https://business.carygrovechamber.com/events/details/an-evening-in-italy-fundraiser-by-faith-in-action-01-30-2010-727
END:VEVENT

END:VCALENDAR
