BEGIN:VCALENDAR
VERSION:2.0
PRODID:-//ChamberMaster//Event Calendar 2.0//EN
METHOD:PUBLISH
X-PUBLISHED-TTL:P3D
REFRESH-INTERVAL:P3D
CALSCALE:GREGORIAN
BEGIN:VEVENT
DTSTART:20100227T020000Z
DTEND:20100227T050000Z
X-MICROSOFT-CDO-ALLDAYEVENT:FALSE
SUMMARY:An Evening of Comedy with Fritz\, Bert Borth and Erika Edwards
DESCRIPTION:Lucy's Cafe is an eclectic nightclub showcasing brilliant stand-up comedy. Set on stage (you won't find a bad seat!) with private or community tables and cash bar (credit cards now accepted!)\, as the lights go down the performers begin their show. Enjoy pre- and post-show live jazz music! \n\nWhen reserving your tickets\, pre-order bottles of house red or white wine\, buckets of beer or soda and cheese trays. Pre-ordering drinks reserves you the best table available at the time of your order. \n\nTickets are ONLY $20 in advance and $25 day of. \n\nCorporate Co-Sponsors: Georgio's Chicago Pizzeria and Pub\, Market Financial Group\, Working World\, Eisenmann
X-ALT-DESC;FMTTYPE=text/html:<div>Lucy's Cafe is an eclectic nightclub showcasing brilliant stand-up comedy. Set on stage (you won't find a bad seat!) with private or community tables and cash bar (credit cards now accepted!)\, as the lights go down the performers begin their show. Enjoy pre- and post-show live jazz music! <br /><br />When reserving your tickets\, pre-order bottles of house red or white wine\, buckets of beer or soda and cheese trays. Pre-ordering drinks reserves you the best table available at the time of your order. <br /><br />Tickets are ONLY $20 in advance and $25 day of. <br /><br />Corporate Co-Sponsors: Georgio's Chicago Pizzeria and Pub\, Market Financial Group\, Working World\, Eisenmann</div>
LOCATION:Raue Center For The Arts 26 North Williams Street Crystal Lake\, IL 60014
UID:e.138.690
SEQUENCE:3
DTSTAMP:20260424T103141Z
URL:https://business.carygrovechamber.com/events/details/an-evening-of-comedy-with-fritz-bert-borth-and-erika-edwards-02-26-2010-690
END:VEVENT

END:VCALENDAR
