BEGIN:VCALENDAR
VERSION:2.0
PRODID:-//ChamberMaster//Event Calendar 2.0//EN
METHOD:PUBLISH
X-PUBLISHED-TTL:P3D
REFRESH-INTERVAL:P3D
CALSCALE:GREGORIAN
BEGIN:VEVENT
DTSTART;VALUE=DATE:20080308
DTEND;VALUE=DATE:20080309
TRANSP:TRANSPARENT
X-MICROSOFT-CDO-ALLDAYEVENT:TRUE
SUMMARY:''An Evening Under the Big White Tent''
DESCRIPTION:Alexander Leigh Center for Autism has scheduled their annual fundraiser "An Evening Under the Big White Tent" at Mariott Lincolnshire Resort.
X-ALT-DESC;FMTTYPE=text/html:<div>Alexander Leigh Center for Autism has scheduled their annual fundraiser &quot\;An Evening Under the Big White Tent&quot\; at Mariott Lincolnshire Resort.&nbsp\;&nbsp\;&nbsp\;</div>
LOCATION:
UID:e.138.182
SEQUENCE:3
DTSTAMP:20260425T181131Z
URL:https://business.carygrovechamber.com/events/details/an-evening-under-the-big-white-tent-03-08-2008-182
END:VEVENT

END:VCALENDAR
