BEGIN:VCALENDAR
VERSION:2.0
PRODID:-//ChamberMaster//Event Calendar 2.0//EN
METHOD:PUBLISH
X-PUBLISHED-TTL:P3D
REFRESH-INTERVAL:P3D
CALSCALE:GREGORIAN
BEGIN:VEVENT
DTSTART:20091118T003000Z
DTEND:20091118T020000Z
X-MICROSOFT-CDO-ALLDAYEVENT:FALSE
SUMMARY:An Inside Look at Panic Attacks and Anxiety Disorders
DESCRIPTION:Panic attacks can be very frightening.  When a panic attack occurs\, you might think you're losing control\, or having a heart attack.  Cheryl Borst M.D.\, and Marlene Casiano M.D.\, with The Barrington Center of Psychotherapy and Wellness will discuss anxiety disorders and how to significantly improve your quality of life through treatment\, medications and relaxation techniques to help prevent these disorders.  A light meal will be served.
X-ALT-DESC;FMTTYPE=text/html:Panic attacks can be very frightening.  When a panic attack occurs\, you might think you're losing control\, or having a heart attack.  Cheryl Borst M.D.\, and Marlene Casiano M.D.\, with The Barrington Center of Psychotherapy and Wellness will discuss anxiety disorders and how to significantly improve your quality of life through treatment\, medications and relaxation techniques to help prevent these disorders.  A light meal will be served.
LOCATION:Advocate Good Shepherd Hospital450 W. Highway 22Barrington\, IL 60010
UID:e.138.587
SEQUENCE:3
DTSTAMP:20260424T124810Z
URL:https://business.carygrovechamber.com/events/details/an-inside-look-at-panic-attacks-and-anxiety-disorders-11-17-2009-587
END:VEVENT

END:VCALENDAR
