BEGIN:VCALENDAR
VERSION:2.0
PRODID:-//ChamberMaster//Event Calendar 2.0//EN
METHOD:PUBLISH
X-PUBLISHED-TTL:P3D
REFRESH-INTERVAL:P3D
CALSCALE:GREGORIAN
BEGIN:VEVENT
DTSTART:20110625T193000Z
DTEND:20110626T000000Z
X-MICROSOFT-CDO-ALLDAYEVENT:FALSE
SUMMARY:Annual Garden Walk and Progressive Dinner
DESCRIPTION:Annual Garden Walk\, Progressive Dinner and Wine Tasting\n\n\n\nTour stunning gardens in Cary and Barrington areas\n\nEnjoy a progressive meal\, wine tasting-including sparkling \, whites and red wines and live entertainment at each stop.  Transportation to gardens provided by Algonquin Township\n\n\n\nCost is: $70.00 per person\n\n\n\nPurchase tickets early\, this event always sells out!!\n\n\n\nProceeds support the Chamber's Scholarship Fund
X-ALT-DESC;FMTTYPE=text/html:Annual Garden Walk\, Progressive Dinner and Wine Tasting<br />\n<br />\nTour stunning gardens in Cary and Barrington areas<br />\nEnjoy a progressive meal\, wine tasting-including sparkling \, whites and red wines and live entertainment at each stop. &nbsp\;Transportation to gardens provided by Algonquin Township<br />\n<br />\nCost is: $70.00 per person<br />\n<br />\nPurchase tickets early\, this event always sells out!!<br />\n<br />\nProceeds support the Chamber&#39\;s Scholarship Fund
LOCATION:
UID:e.138.2568
SEQUENCE:3
DTSTAMP:20260423T121048Z
URL:https://business.carygrovechamber.com/events/details/annual-garden-walk-and-progressive-dinner-06-25-2011-2568
END:VEVENT

END:VCALENDAR
