BEGIN:VCALENDAR
VERSION:2.0
PRODID:-//ChamberMaster//Event Calendar 2.0//EN
METHOD:PUBLISH
X-PUBLISHED-TTL:P3D
REFRESH-INTERVAL:P3D
CALSCALE:GREGORIAN
BEGIN:VEVENT
DTSTART:20080219T173000Z
DTEND:20080219T190000Z
X-MICROSOFT-CDO-ALLDAYEVENT:FALSE
SUMMARY:Appointments That Stick seminar presented by Norine Wiebmer
DESCRIPTION:Selling appointments that produce results\nPre-Qualifying clients before you book them\nAvoid postponements\nDefine your sales cycle
X-ALT-DESC;FMTTYPE=text/html:Selling appointments that produce results\nPre-Qualifying clients before you book them\nAvoid postponements\nDefine your sales cycle
LOCATION:Cuisine America 407 Bluff City Blvd\, Elgin
UID:e.138.200
SEQUENCE:3
DTSTAMP:20260425T193753Z
URL:https://business.carygrovechamber.com/events/details/appointments-that-stick-seminar-presented-by-norine-wiebmer-02-19-2008-200
END:VEVENT

END:VCALENDAR
