BEGIN:VCALENDAR
VERSION:2.0
PRODID:-//ChamberMaster//Event Calendar 2.0//EN
METHOD:PUBLISH
X-PUBLISHED-TTL:P3D
REFRESH-INTERVAL:P3D
CALSCALE:GREGORIAN
BEGIN:VEVENT
DTSTART:20080228T173000Z
DTEND:20080228T190000Z
X-MICROSOFT-CDO-ALLDAYEVENT:FALSE
SUMMARY:Appointments That Stick seminar Presented by Norine Wiebmer
DESCRIPTION:Selling appointments that Produce Results\nPre-qualifying clients before you book them\nAvoiding postponements
X-ALT-DESC;FMTTYPE=text/html:Selling appointments that Produce Results\nPre-qualifying clients before you book them\nAvoiding postponements\n
LOCATION:Richard Walkers Pancake House 5680 Northwest Hwy\, Crystal Lake
UID:e.138.202
SEQUENCE:3
DTSTAMP:20260425T193711Z
URL:https://business.carygrovechamber.com/events/details/appointments-that-stick-seminar-presented-by-norine-wiebmer-02-28-2008-202
END:VEVENT

END:VCALENDAR
