BEGIN:VCALENDAR
VERSION:2.0
PRODID:-//ChamberMaster//Event Calendar 2.0//EN
METHOD:PUBLISH
X-PUBLISHED-TTL:P3D
REFRESH-INTERVAL:P3D
CALSCALE:GREGORIAN
BEGIN:VEVENT
DTSTART;VALUE=DATE:20090401
DTEND;VALUE=DATE:20090501
TRANSP:TRANSPARENT
X-MICROSOFT-CDO-ALLDAYEVENT:TRUE
SUMMARY:April Membership Drive
DESCRIPTION:Start Recruiting for April Membership Drive Recruit Recruit Recruit! Any member who recruits a new member to join the Chamber during our April Membership Drive will be put into a raffle for a chance to win a "Dining Around Town" gift certificate. The more you recruit\, the greater your chance to win! Anybody who joins the Chamber during our April Membership Drive\, April 1 through April 30\, will receive 15 months for the price of 12. They get three months of free membership with a renewal date of July 2010.
X-ALT-DESC;FMTTYPE=text/html:<div style="margin: 0in 0in 0pt"><strong><font size="6"><font size="3">Start Recruiting for April Membership Drive</font></font></strong></div><div style="margin: 0in 0in 0pt">&nbsp\;</div><div style="margin: 0in 0in 0pt\; line-height: 14.4pt"><span style="font-size: 11pt\; color: black">Recruit&hellip\;Recruit&hellip\;Recruit!&nbsp\;Any member who recruits a new member to join the Chamber during our April Membership Drive will be put into a raffle for a chance to win a &ldquo\;Dining Around Town&rdquo\; gift certificate.&nbsp\;The more you recruit\, the greater your chance to win!&nbsp\;Anybody who joins the Chamber during our April Membership Drive\, April 1 through April 30\, will receive 15 months for the price of 12. They get three months of free membership with a renewal date of July 2010.&nbsp\;</span></div>
LOCATION:
UID:e.138.423
SEQUENCE:3
DTSTAMP:20260424T214648Z
URL:https://business.carygrovechamber.com/events/details/april-membership-drive-04-01-2009-423
END:VEVENT

END:VCALENDAR
