BEGIN:VCALENDAR
VERSION:2.0
PRODID:-//ChamberMaster//Event Calendar 2.0//EN
METHOD:PUBLISH
X-PUBLISHED-TTL:P3D
REFRESH-INTERVAL:P3D
CALSCALE:GREGORIAN
BEGIN:VEVENT
DTSTART;VALUE=DATE:20080217
DTEND;VALUE=DATE:20080218
TRANSP:TRANSPARENT
X-MICROSOFT-CDO-ALLDAYEVENT:TRUE
SUMMARY:Aquila Theatre Company Presents\, Julius Caesar
DESCRIPTION:The prize-winning and esteemed London-based company\, Aquila\, has gained a well-earned international reputation as a leading producer of touring classical theatre\, always performed with a contemporary twist. Become immersed in the epic story of the rise and fall of one of the world?s most notorious leaders\, Julius Caesar. One of Shakespeare?s most relevant and timely works is vibrantly brought to life in a production that is visceral\, challenging and\, above all\, entertaining.
X-ALT-DESC;FMTTYPE=text/html:The prize-winning and esteemed London-based company\, Aquila\, has gained a well-earned international reputation as a leading producer of touring classical theatre\, always performed with a contemporary twist. Become immersed in the epic story of the rise and fall of one of the world?s most notorious leaders\, Julius Caesar. One of Shakespeare?s most relevant and timely works is vibrantly brought to life in a production that is visceral\, challenging and\, above all\, entertaining.
LOCATION:Raue Center For The Arts 26 N. Williams Street Crystal Lake\, IL 60014
UID:e.138.160
SEQUENCE:3
DTSTAMP:20260425T194230Z
URL:https://business.carygrovechamber.com/events/details/aquila-theatre-company-presents-julius-caesar-02-17-2008-160
END:VEVENT

END:VCALENDAR
