BEGIN:VCALENDAR
VERSION:2.0
PRODID:-//ChamberMaster//Event Calendar 2.0//EN
METHOD:PUBLISH
X-PUBLISHED-TTL:P3D
REFRESH-INTERVAL:P3D
CALSCALE:GREGORIAN
BEGIN:VEVENT
DTSTART;VALUE=DATE:20090917
DTEND;VALUE=DATE:20090918
TRANSP:TRANSPARENT
X-MICROSOFT-CDO-ALLDAYEVENT:TRUE
SUMMARY:Armanetti's Fox River Grove Chamber Mixer
DESCRIPTION:Chamber Members! Join us on Thursday\, September 17 for a Mixer hosted by Armanetti Fox River Grove on Thursday\, September 17 from 5 to 7 p.m. at their store located at 925 Route 22 in FRG.
X-ALT-DESC;FMTTYPE=text/html:<div>Chamber Members! Join us on Thursday\, September 17 for a&nbsp\;Mixer hosted by <span style="font-family: Arial\; color: black\; font-size: 11pt\; mso-bidi-font-size: 12.0pt\; mso-fareast-font-family: &rsquo\;Times New Roman&rsquo\;\; mso-bidi-font-family: &rsquo\;Times New Roman&rsquo\;\; mso-ansi-language: EN-US\; mso-fareast-language: EN-US\; mso-bidi-language: AR-SA"><strong>Armanetti Fox River Grove </strong></span><span style="font-family: Arial\; color: black\; font-size: 11pt\; mso-bidi-font-size: 12.0pt\; mso-fareast-font-family: &rsquo\;Times New Roman&rsquo\;\; mso-bidi-font-family: &rsquo\;Times New Roman&rsquo\;\; mso-ansi-language: EN-US\; mso-fareast-language: EN-US\; mso-bidi-language: AR-SA">on Thursday\, September 17 from 5 to 7 p.m. at their store located at 925 Route 22 in FRG. </span></div>
LOCATION:Armanetti Fox River Grove 925 Route 22 in FRG
UID:e.138.528
SEQUENCE:3
DTSTAMP:20260424T163533Z
URL:https://business.carygrovechamber.com/events/details/armanetti-s-fox-river-grove-chamber-mixer-09-17-2009-528
END:VEVENT

END:VCALENDAR
