BEGIN:VCALENDAR
VERSION:2.0
PRODID:-//ChamberMaster//Event Calendar 2.0//EN
METHOD:PUBLISH
X-PUBLISHED-TTL:P3D
REFRESH-INTERVAL:P3D
CALSCALE:GREGORIAN
BEGIN:VEVENT
DTSTART:20080529T220000Z
DTEND:20080530T000000Z
X-MICROSOFT-CDO-ALLDAYEVENT:FALSE
SUMMARY:Aroma Chef Bath & Body and Amber Mountain Fashions Evening Mixer
DESCRIPTION:Aroma Chef Bath & Body andAmber Mountain Fashions\nEvening Mixer 312 Northwest Hwy.\, Fox River Grove\n(Across from the Metra train station)5 - 7 p.m. Please note the time has changed
X-ALT-DESC;FMTTYPE=text/html:<p class="MsoNormal" style="margin: 0in 0in 0pt"><font face="Times New Roman" size="4">Aroma Chef Bath &amp\; Body and</font></p><p class="MsoNormal" style="margin: 0in 0in 0pt"><font face="Times New Roman" size="4">Amber Mountain Fashions<br />Evening Mixer </font></p><p class="MsoNormal" style="margin: 0in 0in 0pt"><font face="Times New Roman" size="3">312 Northwest Hwy.\, Fox River Grove<br />(Across from the Metra train station)</font></p><p class="MsoNormal" style="margin: 0in 0in 0pt"><font face="Times New Roman" size="3">5 - 7 p.m.</font></p><p class="MsoNormal" style="margin: 0in 0in 0pt">&nbsp\;</p><p class="MsoNormal" style="margin: 0in 0in 0pt"><font face="Times New Roman" size="3">Please note the time has changed</font></p>
LOCATION:312 Northwest Hwy.\, across from the Metra Train Station\,Fox River Grove
UID:e.138.221
SEQUENCE:3
DTSTAMP:20260425T135211Z
URL:https://business.carygrovechamber.com/events/details/aroma-chef-bath-body-and-amber-mountain-fashions-evening-mixer-05-29-2008-221
END:VEVENT

END:VCALENDAR
