BEGIN:VCALENDAR
VERSION:2.0
PRODID:-//ChamberMaster//Event Calendar 2.0//EN
METHOD:PUBLISH
X-PUBLISHED-TTL:P3D
REFRESH-INTERVAL:P3D
CALSCALE:GREGORIAN
BEGIN:VEVENT
DTSTART;VALUE=DATE:20080215
DTEND;VALUE=DATE:20080216
TRANSP:TRANSPARENT
X-MICROSOFT-CDO-ALLDAYEVENT:TRUE
SUMMARY:Around the World in a Bad Mood!
DESCRIPTION:Prepare yourself for a side-splitting show about air travel. This one-woman show is a hilarious tale of the rude and outrageous antics of air travel. Rene Foss is a real-life flight attendant who is quick to say that the airline of her play and book\, WAFTI (We Apologize for This Inconvenience Airlines) is not based on any individual carrier.
X-ALT-DESC;FMTTYPE=text/html:Prepare yourself for a side-splitting show about air travel. This one-woman show is a hilarious tale of the rude and outrageous antics of air travel. Rene Foss is a real-life flight attendant who is quick to say that the airline of her play and book\, WAFTI (We Apologize for This Inconvenience Airlines) is not based on any individual carrier.
LOCATION:Raue Center For The Arts 26 N. Williams Street Crystal Lake\, IL 60014
UID:e.138.159
SEQUENCE:3
DTSTAMP:20260425T194520Z
URL:https://business.carygrovechamber.com/events/details/around-the-world-in-a-bad-mood-02-15-2008-159
END:VEVENT

END:VCALENDAR
