BEGIN:VCALENDAR
VERSION:2.0
PRODID:-//ChamberMaster//Event Calendar 2.0//EN
METHOD:PUBLISH
X-PUBLISHED-TTL:P3D
REFRESH-INTERVAL:P3D
CALSCALE:GREGORIAN
BEGIN:VEVENT
DTSTART;VALUE=DATE:20090418
DTEND;VALUE=DATE:20090420
TRANSP:TRANSPARENT
X-MICROSOFT-CDO-ALLDAYEVENT:TRUE
SUMMARY:Art & Education at Countryside Flower Shop
DESCRIPTION:Join the staff at Countryside Flower Shop\, Nursery & Garden Center on Saturday and Sunday\, April 18 and 19 for free seminars on art and education\, "Art in the Garden."  Artists will showcase unique creations throughout their greenhouse setting. On Saturday\, April 18 artist demonstrations include: Edible Gardening at 10 a.m.\; New Plants and Must Have Gardening Essential at 11:30 a.m.\; Lawn Care - Month by Month plan for a beautiful lawn at 2 p.m. On Sunday\, April 18 at 10 a.m. - Watercolors with Anita Gordon\, 11:30 a.m. - Herbal Cheese\, Vinaigrettes & more and 1 p.m. - Pottery Throwing. Call today to reserve your seat at (815) 459-8130. Countryside is located at 5301 E. Terra Cotta Avenue (Rt. 176\,   mile west of Route 31) in Crystal Lake. Visit www.countrysideflowershop.com.
X-ALT-DESC;FMTTYPE=text/html:<div>Join the staff at Countryside Flower Shop\, Nursery &amp\; Garden Center on Saturday and Sunday\, April 18 and 19 for free seminars on art and education\, &quot\;Art in the Garden.&quot\; &nbsp\;Artists will showcase unique creations throughout their greenhouse setting. On Saturday\, April 18 artist demonstrations include: Edible Gardening at 10 a.m.\; New Plants and Must Have Gardening Essential at 11:30 a.m.\; Lawn Care - Month by Month plan for a beautiful lawn at 2 p.m. On Sunday\, April 18 at 10 a.m. - Watercolors with Anita Gordon\, 11:30 a.m. - Herbal Cheese\, Vinaigrettes &amp\; more and 1 p.m.&nbsp\;- Pottery Throwing. Call today to reserve your seat at (815) 459-8130. Countryside is located at 5301 E. Terra Cotta Avenue (Rt. 176\, &frac12\; mile west of Route 31) in Crystal Lake. Visit www.countrysideflowershop.com.</div>
LOCATION:Countryside Flower Shop\, Nursery & Garden Center5301 E. Terra Cotta Avenue(Rt. 176\, mile west of Route 31)Crystal Lake\, IL
UID:e.138.439
SEQUENCE:3
DTSTAMP:20260424T231543Z
URL:https://business.carygrovechamber.com/events/details/art-education-at-countryside-flower-shop-04-18-2009-439
END:VEVENT

END:VCALENDAR
