BEGIN:VCALENDAR
VERSION:2.0
PRODID:-//ChamberMaster//Event Calendar 2.0//EN
METHOD:PUBLISH
X-PUBLISHED-TTL:P3D
REFRESH-INTERVAL:P3D
CALSCALE:GREGORIAN
BEGIN:VEVENT
DTSTART:20091210T003000Z
DTEND:20091210T020000Z
X-MICROSOFT-CDO-ALLDAYEVENT:FALSE
SUMMARY:Ask the Expert: My child is not a world class pianist! Is my child normal?
DESCRIPTION:Parents have the best of intentions for their children.  Social norms incorrectly presume that child prodigies enjoy significant advantages later in life as compared to their childhood peers. Join Everett Weiss\, M.D. board certified pediatrician with Pediatric Specialists of the Northwest for an informative evening.  In this lecture series\, he will discuss what is developmentally appropriate for school-age children\, how do parents navigate social pressures in deciding what is right for their child\, and how to find a balance between highly structured activities and independent play.  Bring all of your questions and enjoy a light meal.
X-ALT-DESC;FMTTYPE=text/html:Parents have the best of intentions for their children.  Social norms incorrectly presume that child prodigies enjoy significant advantages later in life as compared to their childhood peers. Join Everett Weiss\, M.D. board certified pediatrician with Pediatric Specialists of the Northwest for an informative evening.  In this lecture series\, he will discuss what is developmentally appropriate for school-age children\, how do parents navigate social pressures in deciding what is right for their child\, and how to find a balance between highly structured activities and independent play.  Bring all of your questions and enjoy a light meal.
LOCATION:Advocate Good Shepherd Hospital450 W. Highway 22Barrington\, IL
UID:e.138.588
SEQUENCE:3
DTSTAMP:20260424T114314Z
URL:https://business.carygrovechamber.com/events/details/ask-the-expert-my-child-is-not-a-world-class-pianist-is-my-child-normal-12-09-2009-588
END:VEVENT

END:VCALENDAR
