BEGIN:VCALENDAR
VERSION:2.0
PRODID:-//ChamberMaster//Event Calendar 2.0//EN
METHOD:PUBLISH
X-PUBLISHED-TTL:P3D
REFRESH-INTERVAL:P3D
CALSCALE:GREGORIAN
BEGIN:VEVENT
DTSTART:20120815T140000Z
DTEND:20120815T153000Z
X-MICROSOFT-CDO-ALLDAYEVENT:FALSE
SUMMARY:Atrial Fibrillation and Stroke Prevention
DESCRIPTION:Atrial Fibrillation and Stroke Prevention\n\nJoin Barry Bikshorn MD\, Advocate Good Shepherd Hospital's stroke program medical director and Peggy Siegele MSN APN CNS CCRN\, stroke coordinator as they explain the connection between this cardiac condition\, stroke and prevention.\n\n\n\nWednesday\, August 15th\, 2012\n\n9:00am-10:30am\n\nMeadow/Prairie Room
X-ALT-DESC;FMTTYPE=text/html:Atrial Fibrillation and Stroke Prevention<br />\nJoin Barry Bikshorn MD\, Advocate Good Shepherd Hospital&rsquo\;s stroke program medical director and Peggy Siegele MSN APN CNS CCRN\, stroke coordinator as they explain the connection between this cardiac condition\, stroke and prevention.<br />\n<br />\nWednesday\, August 15th\, 2012<br />\n9:00am-10:30am<br />\nMeadow/Prairie Room<br />\n<br />\n<br />\n
LOCATION:Advocate Good Shepherd Hospital 450 W. Highway 22 Barrington\, IL 60010
UID:e.138.3456
SEQUENCE:3
DTSTAMP:20260419T215732Z
URL:https://business.carygrovechamber.com/events/details/atrial-fibrillation-and-stroke-prevention-08-15-2012-3456
END:VEVENT

END:VCALENDAR
