BEGIN:VCALENDAR
VERSION:2.0
PRODID:-//ChamberMaster//Event Calendar 2.0//EN
METHOD:PUBLISH
X-PUBLISHED-TTL:P3D
REFRESH-INTERVAL:P3D
CALSCALE:GREGORIAN
BEGIN:VEVENT
DTSTART:20100313T013000Z
DTEND:20100313T040000Z
X-MICROSOFT-CDO-ALLDAYEVENT:FALSE
SUMMARY:Awesome 80's Comedy Show
DESCRIPTION:This long awaited reunion show brings the comedy of Judy Tenuta\, Bob Rumba and Emo Philips to our stage. They've all appeared on HBO\, cable\, DVD\, compact disc\, cassette\, VHS tape and 8 track tapes.
X-ALT-DESC;FMTTYPE=text/html:<div>This long awaited reunion show brings the comedy of Judy Tenuta\, Bob Rumba and Emo Philips to our stage. They've all appeared on HBO\, cable\, DVD\, compact disc\, cassette\, VHS tape and 8 track tapes.</div>
LOCATION:Raue Center For The Arts 26 North Williams Street Crystal Lake\, Illinois
UID:e.138.759
SEQUENCE:3
DTSTAMP:20260424T110409Z
URL:https://business.carygrovechamber.com/events/details/awesome-80-s-comedy-show-03-12-2010-759
END:VEVENT

END:VCALENDAR
