BEGIN:VCALENDAR
VERSION:2.0
PRODID:-//ChamberMaster//Event Calendar 2.0//EN
METHOD:PUBLISH
X-PUBLISHED-TTL:P3D
REFRESH-INTERVAL:P3D
CALSCALE:GREGORIAN
BEGIN:VEVENT
DTSTART:20090526T220000Z
DTEND:20090527T000000Z
X-MICROSOFT-CDO-ALLDAYEVENT:FALSE
SUMMARY:Bank of America Home Loans Multi-Chamber Mixer
DESCRIPTION:Bank of America (formerly Countrywide Home Loans)\, is hosting a multi-chamber mixer at their office\, located at 5613 Northwest Hwy. (Route 14 in shopping center with Big Lots) in Crystal Lake.
X-ALT-DESC;FMTTYPE=text/html:<div>Bank of America (formerly Countrywide Home Loans)\, is hosting a multi-chamber mixer at their office\, located at 5613 Northwest Hwy. (Route 14 in shopping center with Big Lots) in Crystal Lake.&nbsp\;&nbsp\;&nbsp\;</div>
LOCATION:5613 Northwest Hwy. (Route 14)\, Crystal Lake
UID:e.138.462
SEQUENCE:3
DTSTAMP:20260424T215657Z
URL:https://business.carygrovechamber.com/events/details/bank-of-america-home-loans-multi-chamber-mixer-05-26-2009-462
END:VEVENT

END:VCALENDAR
