BEGIN:VCALENDAR
VERSION:2.0
PRODID:-//ChamberMaster//Event Calendar 2.0//EN
METHOD:PUBLISH
X-PUBLISHED-TTL:P3D
REFRESH-INTERVAL:P3D
CALSCALE:GREGORIAN
BEGIN:VEVENT
DTSTART;VALUE=DATE:20090718
DTEND;VALUE=DATE:20090719
TRANSP:TRANSPARENT
X-MICROSOFT-CDO-ALLDAYEVENT:TRUE
SUMMARY:Bankruptcy and Foreclosure Workshop
DESCRIPTION:Saints Peter & Paul Catholic Church Stewardship Commission will host a workshop\, "Bankruptcy and Foreclosure"  with Jennifer Willig\, Branch Manager for Charter One in Cary on Saturday\, July 18. There will be coffee and donuts at 8:45 a.m.\, presentation with questions and answers from 9:15 - 10:30 a.m. in the Fr. Lonergan room in the church\, located at 410 N. First Street in Cary. For more information\, visit www.peterpaulchurchcary.org or call the church at (847) 516-2636. To reach Jennifer at Charter One\, call (847) 794-7030.
X-ALT-DESC;FMTTYPE=text/html:<div>Saints Peter &amp\; Paul Catholic Church Stewardship Commission will host a workshop\, &quot\;Bankruptcy and Foreclosure&quot\; &nbsp\;with Jennifer Willig\, Branch Manager for Charter One in Cary on Saturday\, July 18. There will be coffee and donuts at 8:45 a.m.\, presentation with questions and answers from 9:15 - 10:30 a.m. in the Fr. Lonergan room in the church\, located at 410 N. First Street in Cary. For more information\, visit www.peterpaulchurchcary.org or call the church at (847) 516-2636. To reach Jennifer at Charter One\, call (847) 794-7030.</div>
LOCATION:SS Peter & Paul Church410 N. First Street in Cary
UID:e.138.515
SEQUENCE:3
DTSTAMP:20260424T191836Z
URL:https://business.carygrovechamber.com/events/details/bankruptcy-and-foreclosure-workshop-07-18-2009-515
END:VEVENT

END:VCALENDAR
