BEGIN:VCALENDAR
VERSION:2.0
PRODID:-//ChamberMaster//Event Calendar 2.0//EN
METHOD:PUBLISH
X-PUBLISHED-TTL:P3D
REFRESH-INTERVAL:P3D
CALSCALE:GREGORIAN
BEGIN:VEVENT
DTSTART:20181208T020000Z
DTEND:20181208T040000Z
X-MICROSOFT-CDO-ALLDAYEVENT:FALSE
SUMMARY:Ben Hale's Hi-Fi Holiday
DESCRIPTION:Ben Hale's Hi-Fi Holiday DEC 7 @ 8p Tickets start at $25* Million Dollar Quartet Alum\, Ben Hale\, brings an unforgettable evening of Classic Holiday Americana to Raue Center! Do you remember listening to your favorite vinyl records around Christmas? Ben Hale brings an unforgettable evening of Classic Holiday Americana to Raue Center. The night will celebrate the holidays by way of the early icons of rock and roll history such as Elvis Presley\, Roy Orbison\, Johnny Cash\, as well as timeless heartwarming classics. Throughout the evening\, Ben will also share some of his own original Christmas songs. Ben's unique blend of traditional and modern music will have you tapping your toes and singing along. Backed by a stellar and nuanced band from Texas\, Georgia\, Nashville\, and New York. This is THE event to kick your holiday spirit into high gear! Rating: PG Genre: Music Tribute Time: 90 min
X-ALT-DESC;FMTTYPE=text/html:Ben Hale&rsquo\;s Hi-Fi Holiday DEC 7 @ 8p Tickets start at $25* Million Dollar Quartet Alum\, Ben Hale\, brings an unforgettable evening of Classic Holiday Americana to Raue Center! Do you remember listening to your favorite vinyl records around Christmas? Ben Hale brings an unforgettable evening of Classic Holiday Americana to Raue Center. The night will celebrate the holidays by way of the early icons of rock and roll history such as Elvis Presley\, Roy Orbison\, Johnny Cash\, as well as timeless heartwarming classics. Throughout the evening\, Ben will also share some of his own original Christmas songs. Ben&rsquo\;s unique blend of traditional and modern music will have you tapping your toes and singing along. Backed by a stellar and nuanced band from Texas\, Georgia\, Nashville\, and New York. This is THE event to kick your holiday spirit into high gear! Rating: PG Genre: Music Tribute Time: 90 min
LOCATION:Raue Center For The Arts 26 N. Williams Street Crystal Lake\, IL 60014
UID:e.138.9404
SEQUENCE:3
DTSTAMP:20260420T021749Z
URL:https://business.carygrovechamber.com/events/details/ben-hale-s-hi-fi-holiday-9404
END:VEVENT

END:VCALENDAR
