BEGIN:VCALENDAR
VERSION:2.0
PRODID:-//ChamberMaster//Event Calendar 2.0//EN
METHOD:PUBLISH
X-PUBLISHED-TTL:P3D
REFRESH-INTERVAL:P3D
CALSCALE:GREGORIAN
BEGIN:VEVENT
DTSTART;VALUE=DATE:20080614
DTEND;VALUE=DATE:20080615
TRANSP:TRANSPARENT
X-MICROSOFT-CDO-ALLDAYEVENT:TRUE
SUMMARY:Big Bad Voodoo Daddy - A Summer Swing Concert!
DESCRIPTION:Big Bad Voodoo Daddy returns to Raue Center to present their high-octane performance. Have you heard BBVD?S Jumpin? Jack in Disney?s new Meet The Robinsons? Or\, did you see them on the Oscars? Raue Center is proud to have BBVD back for our Summer Swing Concert. Get your tickets fast! This show has been a sell-out two years in a row!
X-ALT-DESC;FMTTYPE=text/html:Big Bad Voodoo Daddy returns to Raue Center to present their high-octane performance. Have you heard BBVD?S Jumpin? Jack in Disney?s new Meet The Robinsons? Or\, did you see them on the Oscars? Raue Center is proud to have BBVD back for our Summer Swing Concert. Get your tickets fast! This show has been a sell-out two years in a row!
LOCATION:Raue Center For The Arts 26 N. Williams Street Crystal Lake\, IL 60014
UID:e.138.181
SEQUENCE:3
DTSTAMP:20260425T135119Z
URL:https://business.carygrovechamber.com/events/details/big-bad-voodoo-daddy-a-summer-swing-concert-06-14-2008-181
END:VEVENT

END:VCALENDAR
