BEGIN:VCALENDAR
VERSION:2.0
PRODID:-//ChamberMaster//Event Calendar 2.0//EN
METHOD:PUBLISH
X-PUBLISHED-TTL:P3D
REFRESH-INTERVAL:P3D
CALSCALE:GREGORIAN
BEGIN:VEVENT
DTSTART:20080722T220000Z
DTEND:20080723T000000Z
X-MICROSOFT-CDO-ALLDAYEVENT:FALSE
SUMMARY:Black Diamond Plumbing & Electric Multi-Chamber Mixer
DESCRIPTION:Black Diamond Plumbing & Electric  Multi - Chamber Mixer  \nTuesday\, July 22nd5 p.m. - 7 p.m.748 Tek Drive\, Crystal Lake\n Tour their state of the art training facility as well as our new digital media room.  It's our way of saying "Thank You"for voting us Best of the Fox in 2008!
X-ALT-DESC;FMTTYPE=text/html:<p class="MsoNormal" style="margin: 0in 0in 0pt\; text-align: center\; mso-pagination: none" align="center">&nbsp\;</p><p class="MsoNormal" style="margin: 0in 0in 0pt\; text-align: center\; mso-pagination: none" align="center"><span lang="EN" style="font-size: 36pt\; mso-ansi-language: EN"><o:p></o:p></span></p><p align="center"><span lang="EN" style="font-size: 36pt\; mso-ansi-language: EN"><o:p><font size="3"><strong>Black Diamond&nbsp\;Plumbing &amp\; Electric</strong></font><span lang="EN" style="font-size: 36pt\; mso-ansi-language: EN"><o:p><font size="3">&nbsp\;</font></o:p></span></o:p></span></p><p>&nbsp\;</p><p class="MsoNormal" style="margin: 0in 0in 0pt\; text-align: center\; mso-pagination: none" align="center"><strong><span lang="EN" style="font-size: 45pt\; mso-ansi-language: EN"><font size="3">Multi - Chamber Mixer&nbsp\; <br /></font></span></strong><strong><span lang="EN" style="font-size: 45pt\; mso-ansi-language: EN"><font size="3">Tuesday\, July 22<sup>nd<o:p></o:p></sup></font></span></strong></p><p class="MsoNormal" style="margin: 0in 0in 0pt\; text-align: center\; mso-pagination: none" align="center"><strong><span lang="EN" style="font-size: 45pt\; mso-ansi-language: EN"><font size="3">5 p.m. - 7 p.m.</font></span></strong></p><p class="MsoNormal" style="margin: 0in 0in 0pt\; text-align: center\; mso-pagination: none" align="center"><strong><span lang="EN" style="font-size: 45pt\; mso-ansi-language: EN"><font size="3"><o:p>748 Tek Drive\, Crystal Lake<br /></o:p></font></span></strong></p><p class="MsoNormal" style="margin: 0in 0in 0pt\; text-align: center\; mso-pagination: none" align="center">&nbsp\;</p><p class="MsoNormal" style="margin: 0in 0in 0pt\; text-align: center\; mso-pagination: none" align="center"><span lang="EN" style="font-size: 32pt\; mso-ansi-language: EN"><o:p></o:p></span></p><div><span lang="EN" style="font-size: 32pt\; mso-ansi-language: EN"><font size="3">Tour their state of the art training facility as well as our new digital media room.<o:p></o:p></font></span></div><p>&nbsp\;</p><p class="MsoNormal" style="margin: 0in 0in 0pt\; text-align: center\; mso-pagination: none" align="center"><span lang="EN" style="font-size: 32pt\; mso-ansi-language: EN"><o:p><font size="3">&nbsp\;</font></o:p></span></p><p class="MsoNormal" style="margin: 0in 0in 0pt\; text-align: center\; mso-pagination: none" align="center"><span lang="EN" style="font-size: 35pt\; mso-ansi-language: EN"><font size="3">It&rsquo\;s our way of saying &ldquo\;<span style="mso-bidi-font-style: italic">Thank You&rdquo\;<o:p></o:p></span></font></span></p><p class="MsoNormal" style="margin: 0in 0in 0pt\; text-align: center\; mso-pagination: none" align="center"><span lang="EN" style="font-size: 35pt\; mso-ansi-language: EN"><font size="3">for voting us <o:p></o:p></font></span></p><p class="MsoNormal" style="margin: 0in 0in 0pt\; text-align: center\; mso-pagination: none" align="center"><em style="mso-bidi-font-style: normal"><span lang="EN" style="font-size: 35pt\; mso-ansi-language: EN"><font size="3">Best of the Fox in 2008!<o:p></o:p></font></span></em></p>
LOCATION:748 Tek Drive\, Crystal LakeTek Drive is next to the Northwest Herald on Route 31
UID:e.138.268
SEQUENCE:3
DTSTAMP:20260425T105150Z
URL:https://business.carygrovechamber.com/events/details/black-diamond-plumbing-electric-multi-chamber-mixer-07-22-2008-268
END:VEVENT

END:VCALENDAR
