BEGIN:VCALENDAR
VERSION:2.0
PRODID:-//ChamberMaster//Event Calendar 2.0//EN
METHOD:PUBLISH
X-PUBLISHED-TTL:P3D
REFRESH-INTERVAL:P3D
CALSCALE:GREGORIAN
BEGIN:VEVENT
DTSTART:20090521T164500Z
DTEND:20090521T180000Z
X-MICROSOFT-CDO-ALLDAYEVENT:FALSE
SUMMARY:Blogs for Business Box Lunch Seminar
DESCRIPTION:Thursday\, May 21"Blogs for Business" Box Lunch SeminarSpeaker:   Triona Guidry of Guidry Consulting   Small business can stay connected with their customers and prospects through blogs. This interactive web marketing tool allows you to have conversations online with your target audiences. In this workshop\, we will:  Create a blog  Interact with readers  Market your blog to benefit your businessA COMPUTER IS NOT NECESSARY FOR THIS CLASS!   FRG Village Hall\, 305 Illinois St.$10 members\, $20 non-members
X-ALT-DESC;FMTTYPE=text/html:<div style="margin: 0in 0in 0pt"><strong><span style="color: black"><font size="4">Thursday\, May 21</font></span></strong></div><div style="margin: 0in 0in 0pt"><strong><span style="color: black"><font size="4">&ldquo\;Blogs for Business&rdquo\; Box Lunch Seminar</font></span></strong></div><div style="margin: 0in 0in 0pt"><span style="color: black"><font size="4">Speaker:&nbsp\;&nbsp\; Triona Guidry of Guidry Consulting</font></span></div><div style="margin: 0in 0in 0pt">&nbsp\;</div><div style="margin: 0in 0in 0pt">&nbsp\; <div><span style="font-weight: bold\; font-size: 16pt\; language: en-US"><font size="3">Small business can stay connected with their customers and prospects through blogs.&nbsp\;This interactive web marketing tool allows you to have conversations online with your target audiences. </font></span></div><div style="margin-top: 5pt"><span style="font-weight: bold\; font-size: 16pt\; language: en-US"><font size="3">In this workshop\, we will:</font></span></div><div style="margin-left: 18pt\; text-indent: -18pt\; line-height: 125%"><font size="3"><span style="font-size: 10pt\; color: black\; direction: ltr\; unicode-bidi: embed\; language: x-none">&middot\;</span>&nbsp\;<span style="font-weight: bold\; font-size: 16pt\; line-height: 125%\; language: en-US">Create a blog</span></font></div><div style="margin-bottom: 2pt\; margin-left: 18pt\; text-indent: -18pt\; line-height: 125%"><font size="3"><span style="font-size: 10pt\; color: black\; direction: ltr\; unicode-bidi: embed\; language: x-none">&middot\;</span>&nbsp\;<span style="font-weight: bold\; font-size: 16pt\; line-height: 125%\; language: en-US">Interact with readers</span></font></div><div style="margin-left: 18pt\; text-indent: -18pt"><font size="3"><span style="font-size: 10pt\; color: black\; direction: ltr\; unicode-bidi: embed\; language: x-none">&middot\;</span>&nbsp\;<span style="font-weight: bold\; font-size: 16pt\; language: en-US">Market your blog to benefit your&nbsp\;business</span></font></div><div style="margin-top: 3pt\; line-height: 125%"><span style="font-weight: bold\; font-size: 11pt\; line-height: 125%\; font-style: italic\; language: en-US"><font size="3">A COMPUTER IS NOT NECESSARY FOR THIS CLASS!</font></span></div><div>&nbsp\;&nbsp\;</div></div><div style="margin: 0in 0in 0pt">&nbsp\;</div><div style="margin: 0in 0in 0pt"><span style="color: black">FRG Village Hall\, 305 Illinois St.</span></div><div style="margin: 0in 0in 0pt"><span style="color: black">$10 members\, $20 non-members</span></div>
LOCATION:Fox River Grove Village Hall305 illinois Street
UID:e.138.432
SEQUENCE:3
DTSTAMP:20260424T203240Z
URL:https://business.carygrovechamber.com/events/details/blogs-for-business-box-lunch-seminar-05-21-2009-432
END:VEVENT

END:VCALENDAR
