BEGIN:VCALENDAR
VERSION:2.0
PRODID:-//ChamberMaster//Event Calendar 2.0//EN
METHOD:PUBLISH
X-PUBLISHED-TTL:P3D
REFRESH-INTERVAL:P3D
CALSCALE:GREGORIAN
BEGIN:VEVENT
DTSTART;VALUE=DATE:20091017
DTEND;VALUE=DATE:20091018
TRANSP:TRANSPARENT
X-MICROSOFT-CDO-ALLDAYEVENT:TRUE
SUMMARY:Blood Drive and Safety Event at Walgreens FRG
DESCRIPTION:Walgreens FRG is having a Blood Drive and Safety Event on Saturday\, October 17 at their store located at 900 Northwest Hwy. in Fox River Grove from 10 a.m. to 3 p.m.  Blood Drive: 10:00 a.m. - 3:00 p.m. Safety Event / Photo Shoot: 10:00 a.m. to 2:00 p.m. Get your picture taken with the Fox River Grove Police and Fire Departments and learn more about police saftely and fire prevention.  One free 5 x 7 picture per family. For more information about this event or to schedule a donation appointment\, call Walgreens FRG at (847) 639-0376.  For location information\, visit www.walgreens.com. For more informatiion about the Fox River Grove Police and Fire Departments\, visit www.foxrivergrove.org. Flu Shots available from 9 a.m. to 5 p.m.
X-ALT-DESC;FMTTYPE=text/html:<div>Walgreens FRG is having a Blood Drive and Safety Event on Saturday\, October 17 at their store located at 900 Northwest Hwy. in Fox River Grove from 10 a.m. to 3 p.m.&nbsp\;</div><div>&nbsp\;</div><div>Blood Drive: 10:00 a.m. - 3:00 p.m.</div><div>&nbsp\;</div><div>Safety Event / Photo Shoot: 10:00 a.m. to 2:00 p.m.</div><div>&nbsp\;</div><div>Get your picture taken with the Fox River Grove Police and Fire Departments and learn more about police saftely and fire prevention.&nbsp\; One free 5 x 7 picture per family.</div><div>&nbsp\;</div><div>For more information about this event or to schedule a donation appointment\, call&nbsp\;Walgreens FRG at&nbsp\;(847) 639-0376.&nbsp\; For location information\, visit <a href="http://www.walgreens.com">www.walgreens.com</a>. <span style="font-family: Arial\; color: black\; font-size: 10pt">For more informatiion about the <span id="lw_1255030154_16" style="background-attachment: scroll\; background-position: 0% 0%\; cursor: hand"><span class="yshortcuts">Fox River Grove Police</span></span> and Fire Departments\, visit </span><em><u><span style="font-family: Arial\; color: blue\; font-size: 10pt"><a href="http://www.foxrivergrove.org/" target="_blank"><span class="yshortcuts"><span style="color: black"><span id="lw_1255030154_17">www.foxrivergrove.org</span></span></span></a>.</span></u></em><span style="color: black"><o:p></o:p></span></div><div>&nbsp\;</div><div>Flu Shots available from 9 a.m. to 5 p.m.</div>
LOCATION:Walgreens FRG900 Northwest Hwy.Fox River Grove\, IL
UID:e.138.614
SEQUENCE:3
DTSTAMP:20260424T154442Z
URL:https://business.carygrovechamber.com/events/details/blood-drive-and-safety-event-at-walgreens-frg-10-17-2009-614
END:VEVENT

END:VCALENDAR
