BEGIN:VCALENDAR
VERSION:2.0
PRODID:-//ChamberMaster//Event Calendar 2.0//EN
METHOD:PUBLISH
X-PUBLISHED-TTL:P3D
REFRESH-INTERVAL:P3D
CALSCALE:GREGORIAN
BEGIN:VEVENT
DTSTART;VALUE=DATE:20090914
DTEND;VALUE=DATE:20090915
TRANSP:TRANSPARENT
X-MICROSOFT-CDO-ALLDAYEVENT:TRUE
SUMMARY:Blood Drive at Cary Library
DESCRIPTION:The Cary Area Public Library is conducting a blood drive on Monday\, September 14 from 12 noon to 3 p.m. and then again on Friday\, November 20 from 9 a.m. to 12 noon.  Heartland Blood Centers mobile coach will visit the library parking lot.  Appointments can be made online.  A photo ID is required and for safely reasons\, donors are asked to not bring children with them. The Cary Library is located at 1606 Three Oaks Rd. in Cary.  Visit www.cary.lib.il.us or call (847) 639-4210 for more information.
X-ALT-DESC;FMTTYPE=text/html:<div><p class="MsoNormal" style="line-height: 14.4pt\; margin: 0in 0in 0pt"><b style="mso-bidi-font-weight: normal"><span style="font-family: Arial\; color: black\; font-size: 11pt\; mso-bidi-font-size: 12.0pt\; mso-bidi-font-family: 'Times New Roman'">The Cary Area Public Library </span></b><span style="font-family: Arial\; color: black\; font-size: 11pt\; mso-bidi-font-size: 12.0pt\; mso-bidi-font-family: 'Times New Roman'">is conducting a blood drive on Monday\, September 14 from </span><st1:time hour="12" minute="0"><span style="font-family: Arial\; color: black\; font-size: 11pt\; mso-bidi-font-size: 12.0pt\; mso-bidi-font-family: 'Times New Roman'">12 noon</span></st1:time><span style="font-family: Arial\; color: black\; font-size: 11pt\; mso-bidi-font-size: 12.0pt\; mso-bidi-font-family: 'Times New Roman'"> to </span><st1:time hour="15" minute="0"><span style="font-family: Arial\; color: black\; font-size: 11pt\; mso-bidi-font-size: 12.0pt\; mso-bidi-font-family: 'Times New Roman'">3 p.m.</span></st1:time><span style="font-family: Arial\; color: black\; font-size: 11pt\; mso-bidi-font-size: 12.0pt\; mso-bidi-font-family: 'Times New Roman'"> and then again on Friday\, November 20 from </span><st1:time hour="9" minute="0"><span style="font-family: Arial\; color: black\; font-size: 11pt\; mso-bidi-font-size: 12.0pt\; mso-bidi-font-family: 'Times New Roman'">9 a.m.</span></st1:time><span style="font-family: Arial\; color: black\; font-size: 11pt\; mso-bidi-font-size: 12.0pt\; mso-bidi-font-family: 'Times New Roman'"> to </span><st1:time hour="12" minute="0"><span style="font-family: Arial\; color: black\; font-size: 11pt\; mso-bidi-font-size: 12.0pt\; mso-bidi-font-family: 'Times New Roman'">12 noon</span></st1:time><span style="font-family: Arial\; color: black\; font-size: 11pt\; mso-bidi-font-size: 12.0pt\; mso-bidi-font-family: 'Times New Roman'">.<span style="mso-spacerun: yes">&nbsp\; </span>Heartland Blood Centers mobile coach will visit the library parking lot.<span style="mso-spacerun: yes">&nbsp\; </span>Appointments can be made online.<span style="mso-spacerun: yes">&nbsp\; </span>A photo ID is required and for safely reasons\, donors are asked to not bring children with them. <o:p></o:p></span></p><p class="MsoNormal" style="line-height: 14.4pt\; margin: 0in 0in 0pt"><span style="font-family: Arial\; color: black\; font-size: 11pt\; mso-bidi-font-size: 12.0pt\; mso-bidi-font-family: 'Times New Roman'">The Cary Library is located at </span><st1:street><st1:address><span style="font-family: Arial\; color: black\; font-size: 11pt\; mso-bidi-font-size: 12.0pt\; mso-bidi-font-family: 'Times New Roman'">1606 Three Oaks Rd.</span></st1:address></st1:street><span style="font-family: Arial\; color: black\; font-size: 11pt\; mso-bidi-font-size: 12.0pt\; mso-bidi-font-family: 'Times New Roman'"> in </span><st1:city><st1:place><span style="font-family: Arial\; color: black\; font-size: 11pt\; mso-bidi-font-size: 12.0pt\; mso-bidi-font-family: 'Times New Roman'">Cary</span></st1:place></st1:city><span style="font-family: Arial\; color: black\; font-size: 11pt\; mso-bidi-font-size: 12.0pt\; mso-bidi-font-family: 'Times New Roman'">.<span style="mso-spacerun: yes">&nbsp\; </span>Visit <a href="http://www.cary.lib.il.us/">www.cary.lib.il.us</a> or call (847) 639-4210 for more information.<o:p></o:p></span></p></div>
LOCATION:Parking Lot at Cary Library 1606 Three Oaks Rd. in Cary
UID:e.138.577
SEQUENCE:3
DTSTAMP:20260424T163533Z
URL:https://business.carygrovechamber.com/events/details/blood-drive-at-cary-library-09-14-2009-577
END:VEVENT

END:VCALENDAR
