BEGIN:VCALENDAR
VERSION:2.0
PRODID:-//ChamberMaster//Event Calendar 2.0//EN
METHOD:PUBLISH
X-PUBLISHED-TTL:P3D
REFRESH-INTERVAL:P3D
CALSCALE:GREGORIAN
BEGIN:VEVENT
DTSTART:20070419T050000Z
DTEND:20070419T180000Z
X-MICROSOFT-CDO-ALLDAYEVENT:FALSE
SUMMARY:Box Lunch Seminar ''Sell More!''
DESCRIPTION:"Sell More! How to Increase Response to Your Advertising and Marketing Messages!"              Speaker:   Wayne Landt\, Marketing Coach\, Consultant and Speaker\, Guerilla Marketing Coach          \n\nLearn how to:\nTarget the hottest prospects for your product or service\nMake your marketing or ad get attention\nMake your marketing message compelling\nDetermine the best\, most cost effective mediums to reach your target market.
X-ALT-DESC;FMTTYPE=text/html:<p class="MsoNormal" style="MARGIN: 0in 0in 0pt 0.5in\; TEXT-INDENT: -0.5in"><font size="3"><font face="Times New Roman">&ldquo\;<strong>Sell More! How to Increase Response to Your Advertising and Marketing Messages!&rdquo\;<span style="mso-spacerun: yes">&nbsp\;&nbsp\; </span><o:p></o:p></strong></font></font></p><p><font size="3"><font face="Times New Roman"><strong><span style="mso-tab-count: 1">&nbsp\;&nbsp\;&nbsp\;&nbsp\;&nbsp\;&nbsp\;&nbsp\;&nbsp\;&nbsp\;&nbsp\;&nbsp\;</span></strong></font></font><font size="3"><font face="Times New Roman"><strong>Speaker:<span style="mso-spacerun: yes">&nbsp\;&nbsp\; </span>Wayne Landt\, Marketing Coach\, Consultant and Speaker\, Guerilla Marketing Coach<span style="mso-tab-count: 1">&nbsp\;&nbsp\;&nbsp\;&nbsp\;&nbsp\;&nbsp\;&nbsp\;&nbsp\;&nbsp\;&nbsp\;<br /><br />Learn how to:<br />Target the hottest prospects for your product or service<br /></span></strong></font></font><font size="3"><font face="Times New Roman"><strong><span style="mso-tab-count: 1">Make your&nbsp\;marketing or ad get attention<br />Make your&nbsp\;marketing message compelling<br />Determine the best\, most cost effective mediums to reach your target market.&nbsp\;</span><o:p></o:p></strong></font></font></p><p><span style="mso-tab-count: 1"><font face="Times New Roman" size="3">&nbsp\;&nbsp\;&nbsp\;&nbsp\;&nbsp\;&nbsp\;&nbsp\;&nbsp\;&nbsp\;&nbsp\;&nbsp\; </font></span><o:p></o:p></p>
LOCATION:Fox River Grove Village Hall\, 305 Illinois Street\, Fox River Grove
UID:e.138.55
SEQUENCE:3
DTSTAMP:20260425T203330Z
URL:https://business.carygrovechamber.com/events/details/box-lunch-seminar-sell-more-04-19-2007-55
END:VEVENT

END:VCALENDAR
